BEGIN:VCALENDAR
VERSION:2.0
PRODID:-//Louvigné-de-Bais - ECPv6.15.20//NONSGML v1.0//EN
CALSCALE:GREGORIAN
METHOD:PUBLISH
X-ORIGINAL-URL:https://www.louvignedebais.fr
X-WR-CALDESC:Évènements pour Louvigné-de-Bais
REFRESH-INTERVAL;VALUE=DURATION:PT1H
X-Robots-Tag:noindex
X-PUBLISHED-TTL:PT1H
BEGIN:VTIMEZONE
TZID:Europe/Paris
BEGIN:DAYLIGHT
TZOFFSETFROM:+0100
TZOFFSETTO:+0200
TZNAME:CEST
DTSTART:20250330T010000
END:DAYLIGHT
BEGIN:STANDARD
TZOFFSETFROM:+0200
TZOFFSETTO:+0100
TZNAME:CET
DTSTART:20251026T010000
END:STANDARD
BEGIN:DAYLIGHT
TZOFFSETFROM:+0100
TZOFFSETTO:+0200
TZNAME:CEST
DTSTART:20260329T010000
END:DAYLIGHT
BEGIN:STANDARD
TZOFFSETFROM:+0200
TZOFFSETTO:+0100
TZNAME:CET
DTSTART:20261025T010000
END:STANDARD
BEGIN:DAYLIGHT
TZOFFSETFROM:+0100
TZOFFSETTO:+0200
TZNAME:CEST
DTSTART:20270328T010000
END:DAYLIGHT
BEGIN:STANDARD
TZOFFSETFROM:+0200
TZOFFSETTO:+0100
TZNAME:CET
DTSTART:20271031T010000
END:STANDARD
END:VTIMEZONE
BEGIN:VEVENT
DTSTART;TZID=Europe/Paris:20260303T133000
DTEND;TZID=Europe/Paris:20260303T170000
DTSTAMP:20260421T230042
CREATED:20251222T103317Z
LAST-MODIFIED:20251222T103317Z
UID:15794-1772544600-1772557200@www.louvignedebais.fr
SUMMARY:Concours de belote
DESCRIPTION:
URL:https://www.louvignedebais.fr/agenda/concours-de-belote-7/
LOCATION:Salle Intermède\, rue des Diligences\, Louvigné-de-Bais
END:VEVENT
BEGIN:VEVENT
DTSTART;TZID=Europe/Paris:20260307T200000
DTEND;TZID=Europe/Paris:20260307T233000
DTSTAMP:20260421T230042
CREATED:20251222T103359Z
LAST-MODIFIED:20260217T100859Z
UID:15796-1772913600-1772926200@www.louvignedebais.fr
SUMMARY:Soirée quiz intergénérationnel
DESCRIPTION:
URL:https://www.louvignedebais.fr/agenda/soiree-a-theme/
LOCATION:Salle Intermède\, rue des Diligences\, Louvigné-de-Bais
ATTACH;FMTTYPE=image/jpeg:https://www.louvignedebais.fr/wp-content/uploads/2026/02/03.07-Affiche_Quiz_ComEtes_A3_page-0001.jpg
END:VEVENT
BEGIN:VEVENT
DTSTART;TZID=Europe/Paris:20260310T190000
DTEND;TZID=Europe/Paris:20260310T210000
DTSTAMP:20260421T230042
CREATED:20251222T102633Z
LAST-MODIFIED:20260305T091302Z
UID:15782-1773169200-1773176400@www.louvignedebais.fr
SUMMARY:Conseil municipal
DESCRIPTION:Convocation et ordre du jour de la séance du 10 mars 2026
URL:https://www.louvignedebais.fr/agenda/conseil-municipal-39/
LOCATION:Salle Intermède\, rue des Diligences\, Louvigné-de-Bais
END:VEVENT
BEGIN:VEVENT
DTSTART;TZID=Europe/Paris:20260315T080000
DTEND;TZID=Europe/Paris:20260315T180000
DTSTAMP:20260421T230042
CREATED:20251222T102716Z
LAST-MODIFIED:20251222T102716Z
UID:15784-1773561600-1773597600@www.louvignedebais.fr
SUMMARY:Élections municipales
DESCRIPTION:
URL:https://www.louvignedebais.fr/agenda/elections-municipales-2/
LOCATION:Salle Intermède\, rue des Diligences\, Louvigné-de-Bais
END:VEVENT
BEGIN:VEVENT
DTSTART;TZID=Europe/Paris:20260320T183000
DTEND;TZID=Europe/Paris:20260320T200000
DTSTAMP:20260421T230042
CREATED:20260316T131904Z
LAST-MODIFIED:20260324T150831Z
UID:16539-1774031400-1774036800@www.louvignedebais.fr
SUMMARY:Conseil municipal
DESCRIPTION:Convocation et ordre du jour de la séance du 20 mars 2026 \nComposition du conseil municipal \nProclamation maire et adjoints
URL:https://www.louvignedebais.fr/agenda/conseil-municipal-40/
LOCATION:Salle Intermède\, rue des Diligences\, Louvigné-de-Bais
END:VEVENT
BEGIN:VEVENT
DTSTART;TZID=Europe/Paris:20260321T100000
DTEND;TZID=Europe/Paris:20260321T120000
DTSTAMP:20260421T230042
CREATED:20260217T101025Z
LAST-MODIFIED:20260217T101025Z
UID:16328-1774087200-1774094400@www.louvignedebais.fr
SUMMARY:Portes Ouvertes École Saint Patern
DESCRIPTION:
URL:https://www.louvignedebais.fr/agenda/portes-ouvertes-ecole-saint-patern-2/
LOCATION:Ecole Saint-Patern\, 9 rue Anne de Bretagne\, Louvigné-de-Bais\, 35680
ATTACH;FMTTYPE=image/jpeg:https://www.louvignedebais.fr/wp-content/uploads/2026/02/03.26-Affiche-PO-St-Patern_page-0001.jpg
END:VEVENT
BEGIN:VEVENT
DTSTART;TZID=Europe/Paris:20260329T080000
DTEND;TZID=Europe/Paris:20260329T170000
DTSTAMP:20260421T230042
CREATED:20251222T103526Z
LAST-MODIFIED:20260217T100623Z
UID:15798-1774771200-1774803600@www.louvignedebais.fr
SUMMARY:Vide-greniers
DESCRIPTION:
URL:https://www.louvignedebais.fr/agenda/vide-greniers-3/
LOCATION:Espace Intermède
ATTACH;FMTTYPE=image/jpeg:https://www.louvignedebais.fr/wp-content/uploads/2026/02/03.29-Affiche-Vide-ton-grenier-2026.jpg
END:VEVENT
BEGIN:VEVENT
DTSTART;TZID=Europe/Paris:20260330T190000
DTEND;TZID=Europe/Paris:20260330T210000
DTSTAMP:20260421T230042
CREATED:20260324T120753Z
LAST-MODIFIED:20260324T120753Z
UID:16619-1774897200-1774904400@www.louvignedebais.fr
SUMMARY:Conseil municipal
DESCRIPTION:Convocation et ordre du jour de la séance du 30 mars 2026
URL:https://www.louvignedebais.fr/agenda/conseil-municipal-41/
LOCATION:Salle Intermède\, rue des Diligences\, Louvigné-de-Bais
END:VEVENT
END:VCALENDAR