BEGIN:VCALENDAR
VERSION:2.0
PRODID:-//Louvigné-de-Bais - ECPv6.15.20//NONSGML v1.0//EN
CALSCALE:GREGORIAN
METHOD:PUBLISH
X-ORIGINAL-URL:https://www.louvignedebais.fr
X-WR-CALDESC:Évènements pour Louvigné-de-Bais
REFRESH-INTERVAL;VALUE=DURATION:PT1H
X-Robots-Tag:noindex
X-PUBLISHED-TTL:PT1H
BEGIN:VTIMEZONE
TZID:Europe/Paris
BEGIN:DAYLIGHT
TZOFFSETFROM:+0100
TZOFFSETTO:+0200
TZNAME:CEST
DTSTART:20240331T010000
END:DAYLIGHT
BEGIN:STANDARD
TZOFFSETFROM:+0200
TZOFFSETTO:+0100
TZNAME:CET
DTSTART:20241027T010000
END:STANDARD
BEGIN:DAYLIGHT
TZOFFSETFROM:+0100
TZOFFSETTO:+0200
TZNAME:CEST
DTSTART:20250330T010000
END:DAYLIGHT
BEGIN:STANDARD
TZOFFSETFROM:+0200
TZOFFSETTO:+0100
TZNAME:CET
DTSTART:20251026T010000
END:STANDARD
BEGIN:DAYLIGHT
TZOFFSETFROM:+0100
TZOFFSETTO:+0200
TZNAME:CEST
DTSTART:20260329T010000
END:DAYLIGHT
BEGIN:STANDARD
TZOFFSETFROM:+0200
TZOFFSETTO:+0100
TZNAME:CET
DTSTART:20261025T010000
END:STANDARD
END:VTIMEZONE
BEGIN:VEVENT
DTSTART;TZID=Europe/Paris:20251003T140000
DTEND;TZID=Europe/Paris:20251003T170000
DTSTAMP:20260422T061331
CREATED:20250916T083602Z
LAST-MODIFIED:20250916T083602Z
UID:12322-1759500000-1759510800@www.louvignedebais.fr
SUMMARY:Concours de belote
DESCRIPTION:
URL:https://www.louvignedebais.fr/agenda/concours-de-belote-6/
LOCATION:Salle Intermède\, rue des Diligences\, Louvigné-de-Bais
END:VEVENT
BEGIN:VEVENT
DTSTART;TZID=Europe/Paris:20251006T190000
DTEND;TZID=Europe/Paris:20251006T203000
DTSTAMP:20260422T061331
CREATED:20250915T164456Z
LAST-MODIFIED:20250915T164456Z
UID:12315-1759777200-1759782600@www.louvignedebais.fr
SUMMARY:Atelier nutrition
DESCRIPTION:Mieux comprendre son cholestérol pour mieux agir
URL:https://www.louvignedebais.fr/agenda/atelier-nutrition-2/
LOCATION:Villa Bleue
ATTACH;FMTTYPE=image/png:https://www.louvignedebais.fr/wp-content/uploads/2025/09/Affiche-cholesterol.png
END:VEVENT
BEGIN:VEVENT
DTSTART;TZID=Europe/Paris:20251011T100000
DTEND;TZID=Europe/Paris:20251011T170000
DTSTAMP:20260422T061331
CREATED:20250925T135824Z
LAST-MODIFIED:20250925T143837Z
UID:12382-1760176800-1760202000@www.louvignedebais.fr
SUMMARY:Stage de modelage adultes
DESCRIPTION:L’atelier d’Arts Plastiques  \norganise un stage de modelage pour adultes \nà l’atelier  \nle samedi 11 octobre de 10h à 17h.  \nAu prix de 60 € \nInscriptions  via Hello Asso ou par sms au 06 66 87 68 38
URL:https://www.louvignedebais.fr/agenda/stage-de-modelage-adultes/
LOCATION:Atelier d’Arts Plastiques\, 35 rue Madame de Sévigné\, 35680 LOUVIGNÉ-DE-BAIS
ATTACH;FMTTYPE=image/jpeg:https://www.louvignedebais.fr/wp-content/uploads/2025/09/DOC250925-25092025090304_page-0001.jpg
END:VEVENT
BEGIN:VEVENT
DTSTART;TZID=Europe/Paris:20251012T170000
DTEND;TZID=Europe/Paris:20251012T183000
DTSTAMP:20260422T061331
CREATED:20251009T101433Z
LAST-MODIFIED:20251009T101433Z
UID:12490-1760288400-1760293800@www.louvignedebais.fr
SUMMARY:Cin'échange
DESCRIPTION:
URL:https://www.louvignedebais.fr/agenda/cinechange/
LOCATION:Salle Intermède\, rue des Diligences\, Louvigné-de-Bais
ATTACH;FMTTYPE=image/jpeg:https://www.louvignedebais.fr/wp-content/uploads/2025/10/AFFICHE_VERTE-2-scaled.jpg
END:VEVENT
BEGIN:VEVENT
DTSTART;TZID=Europe/Paris:20251014T190000
DTEND;TZID=Europe/Paris:20251014T210000
DTSTAMP:20260422T061331
CREATED:20250725T142122Z
LAST-MODIFIED:20251009T123822Z
UID:11712-1760468400-1760475600@www.louvignedebais.fr
SUMMARY:Conseil municipal
DESCRIPTION:Convocation et ordre du jour de la séance du 14 octobre 2025
URL:https://www.louvignedebais.fr/agenda/conseil-municipal-34/
LOCATION:Salle Intermède\, rue des Diligences\, Louvigné-de-Bais
END:VEVENT
BEGIN:VEVENT
DTSTART;TZID=Europe/Paris:20251018T103000
DTEND;TZID=Europe/Paris:20251018T113000
DTSTAMP:20260422T061331
CREATED:20250916T083906Z
LAST-MODIFIED:20250916T083906Z
UID:12324-1760783400-1760787000@www.louvignedebais.fr
SUMMARY:Classes 5
DESCRIPTION:
URL:https://www.louvignedebais.fr/agenda/classes-5/
LOCATION:Chapelle St Job\, 1A rue Anne de Bretagne\, Louvigné-de-Bais\, 35680
END:VEVENT
BEGIN:VEVENT
DTSTART;TZID=Europe/Paris:20251018T200000
DTEND;TZID=Europe/Paris:20251018T233000
DTSTAMP:20260422T061331
CREATED:20250926T130931Z
LAST-MODIFIED:20250926T130931Z
UID:12395-1760817600-1760830200@www.louvignedebais.fr
SUMMARY:Concert d'Halloween
DESCRIPTION:L’association Com’Êtes organise une soirée concert Halloween avec le groupe SMACK KISS TRIBUTE \nBuvette et petite restauration sur place \n1 boisson offerte à toute personne déguisée.
URL:https://www.louvignedebais.fr/agenda/concert-dhalloween/
LOCATION:Salle Intermède\, rue des Diligences\, Louvigné-de-Bais
ATTACH;FMTTYPE=image/jpeg:https://www.louvignedebais.fr/wp-content/uploads/2025/09/Affiche_Concert_Smack_Kiss_Halloween_2025-_A3_page-00011.jpg
END:VEVENT
BEGIN:VEVENT
DTSTART;TZID=Europe/Paris:20251020T140000
DTEND;TZID=Europe/Paris:20251020T163000
DTSTAMP:20260422T061331
CREATED:20250925T143433Z
LAST-MODIFIED:20250925T143433Z
UID:12384-1760968800-1760977800@www.louvignedebais.fr
SUMMARY:Stage de modelage enfants
DESCRIPTION:L’atelier d’Arts Plastiques  \norganise un stage de modelage pour enfants \nà l’atelier  \nle lundi 20 octobre de 14h à 16h30.  \n25 € \nInscriptions  via Hello Asso ou par sms au 06 66 87 68 38
URL:https://www.louvignedebais.fr/agenda/stage-de-modelage-enfants/
LOCATION:Espace Culturel\, rue Mme de Sévigné
ATTACH;FMTTYPE=image/png:https://www.louvignedebais.fr/wp-content/uploads/2025/09/Affiche-Stages-1-2.png
END:VEVENT
BEGIN:VEVENT
DTSTART;TZID=Europe/Paris:20251021T140000
DTEND;TZID=Europe/Paris:20251021T170000
DTSTAMP:20260422T061331
CREATED:20250926T131900Z
LAST-MODIFIED:20250926T131900Z
UID:12399-1761055200-1761066000@www.louvignedebais.fr
SUMMARY:Scrabble
DESCRIPTION:
URL:https://www.louvignedebais.fr/agenda/scrabble/
LOCATION:Salle Intermède\, rue des Diligences\, Louvigné-de-Bais
END:VEVENT
BEGIN:VEVENT
DTSTART;TZID=Europe/Paris:20251024T203000
DTEND;TZID=Europe/Paris:20251024T223000
DTSTAMP:20260422T061331
CREATED:20250915T124900Z
LAST-MODIFIED:20250915T124900Z
UID:12293-1761337800-1761345000@www.louvignedebais.fr
SUMMARY:Théâtre
DESCRIPTION:La troupe de théâtre « Ouvrez les guillemets » vous présente la pièce « Le coupable est dans la salle ».
URL:https://www.louvignedebais.fr/agenda/theatre-10/
LOCATION:Salle Intermède\, rue des Diligences\, Louvigné-de-Bais
ATTACH;FMTTYPE=image/jpeg:https://www.louvignedebais.fr/wp-content/uploads/2025/09/10.24-au-26-Affiches-le-coupable-est-dans-la-salle_page-0001.jpg
END:VEVENT
BEGIN:VEVENT
DTSTART;TZID=Europe/Paris:20251025T203000
DTEND;TZID=Europe/Paris:20251025T223000
DTSTAMP:20260422T061331
CREATED:20250915T125942Z
LAST-MODIFIED:20250915T130203Z
UID:12301-1761424200-1761431400@www.louvignedebais.fr
SUMMARY:Théâtre
DESCRIPTION:La troupe de théâtre « Ouvrez les guillemets » vous présente la pièce « Le coupable est dans la salle ».
URL:https://www.louvignedebais.fr/agenda/theatre-12/
LOCATION:Salle Intermède\, rue des Diligences\, Louvigné-de-Bais
ATTACH;FMTTYPE=image/jpeg:https://www.louvignedebais.fr/wp-content/uploads/2025/09/10.24-au-26-Affiches-le-coupable-est-dans-la-salle_page-0001.jpg
END:VEVENT
BEGIN:VEVENT
DTSTART;TZID=Europe/Paris:20251026T150000
DTEND;TZID=Europe/Paris:20251026T170000
DTSTAMP:20260422T061331
CREATED:20250915T125425Z
LAST-MODIFIED:20250915T125425Z
UID:12298-1761490800-1761498000@www.louvignedebais.fr
SUMMARY:Théâtre
DESCRIPTION:La troupe de théâtre « Ouvrez les guillemets » vous présente la pièce « Le coupable est dans la salle ».
URL:https://www.louvignedebais.fr/agenda/theatre-11/
LOCATION:Salle Intermède\, rue des Diligences\, Louvigné-de-Bais
ATTACH;FMTTYPE=image/jpeg:https://www.louvignedebais.fr/wp-content/uploads/2025/09/10.24-au-26-Affiches-le-coupable-est-dans-la-salle_page-0001.jpg
END:VEVENT
END:VCALENDAR