BEGIN:VCALENDAR
VERSION:2.0
PRODID:-//Louvigné-de-Bais - ECPv6.15.20//NONSGML v1.0//EN
CALSCALE:GREGORIAN
METHOD:PUBLISH
X-WR-CALNAME:Louvigné-de-Bais
X-ORIGINAL-URL:https://www.louvignedebais.fr
X-WR-CALDESC:Évènements pour Louvigné-de-Bais
REFRESH-INTERVAL;VALUE=DURATION:PT1H
X-Robots-Tag:noindex
X-PUBLISHED-TTL:PT1H
BEGIN:VTIMEZONE
TZID:Europe/Paris
BEGIN:DAYLIGHT
TZOFFSETFROM:+0100
TZOFFSETTO:+0200
TZNAME:CEST
DTSTART:20230326T010000
END:DAYLIGHT
BEGIN:STANDARD
TZOFFSETFROM:+0200
TZOFFSETTO:+0100
TZNAME:CET
DTSTART:20231029T010000
END:STANDARD
BEGIN:DAYLIGHT
TZOFFSETFROM:+0100
TZOFFSETTO:+0200
TZNAME:CEST
DTSTART:20240331T010000
END:DAYLIGHT
BEGIN:STANDARD
TZOFFSETFROM:+0200
TZOFFSETTO:+0100
TZNAME:CET
DTSTART:20241027T010000
END:STANDARD
BEGIN:DAYLIGHT
TZOFFSETFROM:+0100
TZOFFSETTO:+0200
TZNAME:CEST
DTSTART:20250330T010000
END:DAYLIGHT
BEGIN:STANDARD
TZOFFSETFROM:+0200
TZOFFSETTO:+0100
TZNAME:CET
DTSTART:20251026T010000
END:STANDARD
END:VTIMEZONE
BEGIN:VEVENT
DTSTART;TZID=Europe/Paris:20241116T190000
DTEND;TZID=Europe/Paris:20241116T233000
DTSTAMP:20260422T122728
CREATED:20241012T080947Z
LAST-MODIFIED:20241012T080947Z
UID:10152-1731783600-1731799800@www.louvignedebais.fr
SUMMARY:Repas du SLFC
DESCRIPTION:
URL:https://www.louvignedebais.fr/agenda/repas-du-slfc-2/
LOCATION:Salle Intermède\, rue des Diligences\, Louvigné-de-Bais
ATTACH;FMTTYPE=image/jpeg:https://www.louvignedebais.fr/wp-content/uploads/2024/10/11.16-SLFC-Repas-du-foot.jpg
END:VEVENT
BEGIN:VEVENT
DTSTART;TZID=Europe/Paris:20241120T190000
DTEND;TZID=Europe/Paris:20241120T210000
DTSTAMP:20260422T122728
CREATED:20240923T075711Z
LAST-MODIFIED:20241114T112554Z
UID:10055-1732129200-1732136400@www.louvignedebais.fr
SUMMARY:Conseil municipal
DESCRIPTION:Convocation et ordre du jour de la séance du 20 novembre 2024 \n 
URL:https://www.louvignedebais.fr/agenda/conseil-municipal-25/
LOCATION:Salle Intermède\, rue des Diligences\, Louvigné-de-Bais
END:VEVENT
BEGIN:VEVENT
DTSTART;TZID=Europe/Paris:20241124T093000
DTEND;TZID=Europe/Paris:20241124T120000
DTSTAMP:20260422T122728
CREATED:20241121T101551Z
LAST-MODIFIED:20241121T101551Z
UID:10265-1732440600-1732449600@www.louvignedebais.fr
SUMMARY:Randonnée
DESCRIPTION:Dans le cadre des actions Octobre Rose et Movember 2024\, PIGEON Carrières – PIGEON TP\, l’amicale des Sapeurs Pompiers de Louvigné-de-Bais et la commune de Louvigné-de-Bais organisent une marche solidaire pour lutter contre le cancer du sein et de la prostate. \nCe dimanche 24 novembre \n Départ à 9h30 \n Salle Intermède \n Tarif : 5€\, gratuit pour les -12 ans \nInscriptions : \n– sur place \n– helloasso : https://www.helloasso.com/…/evenements/marche-solidaire
URL:https://www.louvignedebais.fr/agenda/randonnee/
LOCATION:Salle Intermède\, rue des Diligences\, Louvigné-de-Bais
ATTACH;FMTTYPE=image/jpeg:https://www.louvignedebais.fr/wp-content/uploads/2024/11/11.24-randonnee.jpg
END:VEVENT
BEGIN:VEVENT
DTSTART;TZID=Europe/Paris:20241125T200000
DTEND;TZID=Europe/Paris:20241125T220000
DTSTAMP:20260422T122728
CREATED:20241016T111302Z
LAST-MODIFIED:20241016T111302Z
UID:10167-1732564800-1732572000@www.louvignedebais.fr
SUMMARY:Conférence sur le sommeil
DESCRIPTION:
URL:https://www.louvignedebais.fr/agenda/conference-sur-le-sommeil/
LOCATION:Salle Intermède\, rue des Diligences\, Louvigné-de-Bais
ATTACH;FMTTYPE=image/png:https://www.louvignedebais.fr/wp-content/uploads/2024/10/11.25-Conference-sommeil.png
END:VEVENT
END:VCALENDAR