BEGIN:VCALENDAR
VERSION:2.0
PRODID:-//Louvigné-de-Bais - ECPv6.15.20//NONSGML v1.0//EN
CALSCALE:GREGORIAN
METHOD:PUBLISH
X-WR-CALNAME:Louvigné-de-Bais
X-ORIGINAL-URL:https://www.louvignedebais.fr
X-WR-CALDESC:Évènements pour Louvigné-de-Bais
REFRESH-INTERVAL;VALUE=DURATION:PT1H
X-Robots-Tag:noindex
X-PUBLISHED-TTL:PT1H
BEGIN:VTIMEZONE
TZID:Europe/Paris
BEGIN:DAYLIGHT
TZOFFSETFROM:+0100
TZOFFSETTO:+0200
TZNAME:CEST
DTSTART:20230326T010000
END:DAYLIGHT
BEGIN:STANDARD
TZOFFSETFROM:+0200
TZOFFSETTO:+0100
TZNAME:CET
DTSTART:20231029T010000
END:STANDARD
BEGIN:DAYLIGHT
TZOFFSETFROM:+0100
TZOFFSETTO:+0200
TZNAME:CEST
DTSTART:20240331T010000
END:DAYLIGHT
BEGIN:STANDARD
TZOFFSETFROM:+0200
TZOFFSETTO:+0100
TZNAME:CET
DTSTART:20241027T010000
END:STANDARD
BEGIN:DAYLIGHT
TZOFFSETFROM:+0100
TZOFFSETTO:+0200
TZNAME:CEST
DTSTART:20250330T010000
END:DAYLIGHT
BEGIN:STANDARD
TZOFFSETFROM:+0200
TZOFFSETTO:+0100
TZNAME:CET
DTSTART:20251026T010000
END:STANDARD
END:VTIMEZONE
BEGIN:VEVENT
DTSTART;TZID=Europe/Paris:20241005T203000
DTEND;TZID=Europe/Paris:20241005T220000
DTSTAMP:20260422T135452
CREATED:20240923T080108Z
LAST-MODIFIED:20240923T080227Z
UID:10062-1728160200-1728165600@www.louvignedebais.fr
SUMMARY:Théâtre
DESCRIPTION:La troupe de théâtre « Ouvrez les guillemets » vous présente la pièce « L’Atelier »
URL:https://www.louvignedebais.fr/agenda/theatre-3/
LOCATION:Salle Intermède\, rue des Diligences\, Louvigné-de-Bais
ATTACH;FMTTYPE=image/png:https://www.louvignedebais.fr/wp-content/uploads/2024/09/10.5-6-12-et-13-Theatre-ouvrez-les-guillemets.png
END:VEVENT
BEGIN:VEVENT
DTSTART;TZID=Europe/Paris:20241006T150000
DTEND;TZID=Europe/Paris:20241006T170000
DTSTAMP:20260422T135452
CREATED:20240923T080207Z
LAST-MODIFIED:20240923T080207Z
UID:10064-1728226800-1728234000@www.louvignedebais.fr
SUMMARY:Théâtre
DESCRIPTION:La troupe de théâtre « Ouvrez les guillemets » vous présente la pièce « L’Atelier »
URL:https://www.louvignedebais.fr/agenda/theatre-4/
LOCATION:Salle Intermède\, rue des Diligences\, Louvigné-de-Bais
ATTACH;FMTTYPE=image/png:https://www.louvignedebais.fr/wp-content/uploads/2024/09/10.5-6-12-et-13-Theatre-ouvrez-les-guillemets.png
END:VEVENT
BEGIN:VEVENT
DTSTART;TZID=Europe/Paris:20241011T140000
DTEND;TZID=Europe/Paris:20241011T170000
DTSTAMP:20260422T135452
CREATED:20240923T124908Z
LAST-MODIFIED:20240923T124927Z
UID:10074-1728655200-1728666000@www.louvignedebais.fr
SUMMARY:Concours de belote
DESCRIPTION:
URL:https://www.louvignedebais.fr/agenda/concours-de-belote-4/
LOCATION:Salle Intermède\, rue des Diligences\, Louvigné-de-Bais
END:VEVENT
BEGIN:VEVENT
DTSTART;TZID=Europe/Paris:20241012T203000
DTEND;TZID=Europe/Paris:20241012T223000
DTSTAMP:20260422T135452
CREATED:20240923T092503Z
LAST-MODIFIED:20240923T092503Z
UID:10066-1728765000-1728772200@www.louvignedebais.fr
SUMMARY:Théâtre
DESCRIPTION:La troupe de théâtre « Ouvrez les guillemets » vous présente la pièce « L’Atelier »
URL:https://www.louvignedebais.fr/agenda/theatre-5/
LOCATION:Salle Intermède\, rue des Diligences\, Louvigné-de-Bais
ATTACH;FMTTYPE=image/png:https://www.louvignedebais.fr/wp-content/uploads/2024/09/10.5-6-12-et-13-Theatre-ouvrez-les-guillemets.png
END:VEVENT
BEGIN:VEVENT
DTSTART;TZID=Europe/Paris:20241013T140000
DTEND;TZID=Europe/Paris:20241013T170000
DTSTAMP:20260422T135452
CREATED:20240923T100401Z
LAST-MODIFIED:20240923T100401Z
UID:10072-1728828000-1728838800@www.louvignedebais.fr
SUMMARY:Enquête policière organisée par le CME
DESCRIPTION:Enquête policière organisée par le CME
URL:https://www.louvignedebais.fr/agenda/enquete-policiere-organisee-par-le-cme/
LOCATION:Salle du Club\, chemin des Diligences\, Louvigné-de-Bais\, France
ATTACH;FMTTYPE=image/png:https://www.louvignedebais.fr/wp-content/uploads/2024/09/Affiche-Cluedo-13.10.2024.png
END:VEVENT
BEGIN:VEVENT
DTSTART;TZID=Europe/Paris:20241013T150000
DTEND;TZID=Europe/Paris:20241013T170000
DTSTAMP:20260422T135452
CREATED:20240923T093454Z
LAST-MODIFIED:20240923T093454Z
UID:10068-1728831600-1728838800@www.louvignedebais.fr
SUMMARY:Théâtre
DESCRIPTION:La troupe de théâtre « Ouvrez les guillemets » vous présente la pièce « L’Atelier »
URL:https://www.louvignedebais.fr/agenda/theatre-6/
LOCATION:Salle Intermède\, rue des Diligences\, Louvigné-de-Bais
ATTACH;FMTTYPE=image/png:https://www.louvignedebais.fr/wp-content/uploads/2024/09/10.5-6-12-et-13-Theatre-ouvrez-les-guillemets.png
END:VEVENT
BEGIN:VEVENT
DTSTART;TZID=Europe/Paris:20241014T160000
DTEND;TZID=Europe/Paris:20241014T170000
DTSTAMP:20260422T135452
CREATED:20241012T081226Z
LAST-MODIFIED:20241012T081226Z
UID:10154-1728921600-1728925200@www.louvignedebais.fr
SUMMARY:Vente de gâteaux aux écoles
DESCRIPTION:
URL:https://www.louvignedebais.fr/agenda/vente-de-gateaux-aux-ecoles/
ATTACH;FMTTYPE=image/png:https://www.louvignedebais.fr/wp-content/uploads/2024/10/1-E.png
END:VEVENT
BEGIN:VEVENT
DTSTART;TZID=Europe/Paris:20241015T190000
DTEND;TZID=Europe/Paris:20241015T210000
DTSTAMP:20260422T135452
CREATED:20240923T073924Z
LAST-MODIFIED:20241008T095945Z
UID:10053-1729018800-1729026000@www.louvignedebais.fr
SUMMARY:Conseil municipal
DESCRIPTION:Convocation et ordre du jour de la séance du 15 octobre 2024
URL:https://www.louvignedebais.fr/agenda/conseil-municipal-24/
LOCATION:Salle Intermède\, rue des Diligences\, Louvigné-de-Bais
END:VEVENT
BEGIN:VEVENT
DTSTART;TZID=Europe/Paris:20241025T203000
DTEND;TZID=Europe/Paris:20241025T230000
DTSTAMP:20260422T135452
CREATED:20240923T154634Z
LAST-MODIFIED:20240923T154634Z
UID:10077-1729888200-1729897200@www.louvignedebais.fr
SUMMARY:Sister Act - Comédie musicale
DESCRIPTION:Réservations via ce lien : https://www.helloasso.com/associations/la-compagnie-d-art-scene/evenements/sister-act
URL:https://www.louvignedebais.fr/agenda/sister-act-comedie-musicale-10/
LOCATION:Salle Intermède\, rue des Diligences\, Louvigné-de-Bais
ATTACH;FMTTYPE=image/webp:https://www.louvignedebais.fr/wp-content/uploads/2024/09/eaf4c4_3b876cee7bab4d689eb87faac5a6e7damv2.webp
END:VEVENT
BEGIN:VEVENT
DTSTART;TZID=Europe/Paris:20241026T203000
DTEND;TZID=Europe/Paris:20241026T230000
DTSTAMP:20260422T135452
CREATED:20240923T154751Z
LAST-MODIFIED:20240923T154751Z
UID:10079-1729974600-1729983600@www.louvignedebais.fr
SUMMARY:Sister Act - Comédie musicale
DESCRIPTION:Réservations via ce lien : https://www.helloasso.com/associations/la-compagnie-d-art-scene/evenements/sister-act
URL:https://www.louvignedebais.fr/agenda/sister-act-comedie-musicale-11/
LOCATION:Salle Intermède\, rue des Diligences\, Louvigné-de-Bais
ATTACH;FMTTYPE=image/webp:https://www.louvignedebais.fr/wp-content/uploads/2024/09/eaf4c4_3b876cee7bab4d689eb87faac5a6e7damv2.webp
END:VEVENT
BEGIN:VEVENT
DTSTART;TZID=Europe/Paris:20241027T143000
DTEND;TZID=Europe/Paris:20241027T170000
DTSTAMP:20260422T135452
CREATED:20240923T154850Z
LAST-MODIFIED:20240923T154850Z
UID:10081-1730039400-1730048400@www.louvignedebais.fr
SUMMARY:Sister Act - Comédie musicale
DESCRIPTION:Réservations via ce lien : https://www.helloasso.com/associations/la-compagnie-d-art-scene/evenements/sister-act
URL:https://www.louvignedebais.fr/agenda/sister-act-comedie-musicale-12/
LOCATION:Salle Intermède\, rue des Diligences\, Louvigné-de-Bais
ATTACH;FMTTYPE=image/webp:https://www.louvignedebais.fr/wp-content/uploads/2024/09/eaf4c4_3b876cee7bab4d689eb87faac5a6e7damv2.webp
END:VEVENT
END:VCALENDAR