BEGIN:VCALENDAR
VERSION:2.0
PRODID:-//Louvigné-de-Bais - ECPv6.15.20//NONSGML v1.0//EN
CALSCALE:GREGORIAN
METHOD:PUBLISH
X-ORIGINAL-URL:https://www.louvignedebais.fr
X-WR-CALDESC:Évènements pour Louvigné-de-Bais
REFRESH-INTERVAL;VALUE=DURATION:PT1H
X-Robots-Tag:noindex
X-PUBLISHED-TTL:PT1H
BEGIN:VTIMEZONE
TZID:Europe/Paris
BEGIN:DAYLIGHT
TZOFFSETFROM:+0100
TZOFFSETTO:+0200
TZNAME:CEST
DTSTART:20230326T010000
END:DAYLIGHT
BEGIN:STANDARD
TZOFFSETFROM:+0200
TZOFFSETTO:+0100
TZNAME:CET
DTSTART:20231029T010000
END:STANDARD
BEGIN:DAYLIGHT
TZOFFSETFROM:+0100
TZOFFSETTO:+0200
TZNAME:CEST
DTSTART:20240331T010000
END:DAYLIGHT
BEGIN:STANDARD
TZOFFSETFROM:+0200
TZOFFSETTO:+0100
TZNAME:CET
DTSTART:20241027T010000
END:STANDARD
BEGIN:DAYLIGHT
TZOFFSETFROM:+0100
TZOFFSETTO:+0200
TZNAME:CEST
DTSTART:20250330T010000
END:DAYLIGHT
BEGIN:STANDARD
TZOFFSETFROM:+0200
TZOFFSETTO:+0100
TZNAME:CET
DTSTART:20251026T010000
END:STANDARD
END:VTIMEZONE
BEGIN:VEVENT
DTSTART;TZID=Europe/Paris:20240825T113000
DTEND;TZID=Europe/Paris:20240825T190000
DTSTAMP:20260422T165906
CREATED:20240805T141239Z
LAST-MODIFIED:20240805T141239Z
UID:9919-1724585400-1724612400@www.louvignedebais.fr
SUMMARY:Tablées de Louvigné-de-Bais
DESCRIPTION:Venez nombreux en famille\, entre voisins\, amis… \nVous pouvez apporter vos propres jeux. Le but de cette journée est de faire de celle-ci un moment de convivialité\, de partage\, et d’être intergénérationnelle ! \n4 jeux géants seront à disposition\, ainsi  que des jeux de société.
URL:https://www.louvignedebais.fr/agenda/tablees-de-louvigne-de-bais/
LOCATION:Espace Intermède
ATTACH;FMTTYPE=image/png:https://www.louvignedebais.fr/wp-content/uploads/2024/08/08.25-Les-tablees-de-Louvigne-de-Bais.png
END:VEVENT
BEGIN:VEVENT
DTSTART;TZID=Europe/Paris:20240831T100000
DTEND;TZID=Europe/Paris:20240831T130000
DTSTAMP:20260422T165906
CREATED:20240325T134412Z
LAST-MODIFIED:20240805T141335Z
UID:9515-1725098400-1725109200@www.louvignedebais.fr
SUMMARY:Forum des associations
DESCRIPTION:Les associations de Louvigné-de-Bais vous donnent rendez-vous le samedi 31 août de 10h00 à 13h00 à la salle Intermède pour le traditionnel forum des associations.Venez découvrir les différentes associations locales mais également des associations externes non représentées dans la collectivité.L’occasion de réaliser vos inscriptions pour l’année scolaire 2024-2025 !
URL:https://www.louvignedebais.fr/agenda/forum-des-associations-4/
ATTACH;FMTTYPE=image/png:https://www.louvignedebais.fr/wp-content/uploads/2024/07/Affiche-forum-des-associations-31.08.png
END:VEVENT
END:VCALENDAR