BEGIN:VCALENDAR
VERSION:2.0
PRODID:-//Louvigné-de-Bais - ECPv6.15.20//NONSGML v1.0//EN
CALSCALE:GREGORIAN
METHOD:PUBLISH
X-WR-CALNAME:Louvigné-de-Bais
X-ORIGINAL-URL:https://www.louvignedebais.fr
X-WR-CALDESC:Évènements pour Louvigné-de-Bais
REFRESH-INTERVAL;VALUE=DURATION:PT1H
X-Robots-Tag:noindex
X-PUBLISHED-TTL:PT1H
BEGIN:VTIMEZONE
TZID:Europe/Paris
BEGIN:DAYLIGHT
TZOFFSETFROM:+0100
TZOFFSETTO:+0200
TZNAME:CEST
DTSTART:20230326T010000
END:DAYLIGHT
BEGIN:STANDARD
TZOFFSETFROM:+0200
TZOFFSETTO:+0100
TZNAME:CET
DTSTART:20231029T010000
END:STANDARD
BEGIN:DAYLIGHT
TZOFFSETFROM:+0100
TZOFFSETTO:+0200
TZNAME:CEST
DTSTART:20240331T010000
END:DAYLIGHT
BEGIN:STANDARD
TZOFFSETFROM:+0200
TZOFFSETTO:+0100
TZNAME:CET
DTSTART:20241027T010000
END:STANDARD
BEGIN:DAYLIGHT
TZOFFSETFROM:+0100
TZOFFSETTO:+0200
TZNAME:CEST
DTSTART:20250330T010000
END:DAYLIGHT
BEGIN:STANDARD
TZOFFSETFROM:+0200
TZOFFSETTO:+0100
TZNAME:CET
DTSTART:20251026T010000
END:STANDARD
END:VTIMEZONE
BEGIN:VEVENT
DTSTART;TZID=Europe/Paris:20240706T080000
DTEND;TZID=Europe/Paris:20240706T170000
DTSTAMP:20260422T182137
CREATED:20240404T072255Z
LAST-MODIFIED:20240404T072255Z
UID:9549-1720252800-1720285200@www.louvignedebais.fr
SUMMARY:Weekend Terre de Jeux 2024
DESCRIPTION:Tournoi de Volley (Salle des sports) avec l’association  Club Volley de Louvigné
URL:https://www.louvignedebais.fr/agenda/weekend-terre-de-jeux-2024/
END:VEVENT
BEGIN:VEVENT
DTSTART;TZID=Europe/Paris:20240707T080000
DTEND;TZID=Europe/Paris:20240707T170000
DTSTAMP:20260422T182137
CREATED:20240404T072325Z
LAST-MODIFIED:20240404T072325Z
UID:9551-1720339200-1720371600@www.louvignedebais.fr
SUMMARY:Weekend Terre de Jeux 2024
DESCRIPTION:– 2 courses cyclistes dont le grand prix de Louvigné de Bais (après-midi) \n– Balade sophro \n– Yoga motricité pour les jeunes enfants
URL:https://www.louvignedebais.fr/agenda/weekend-terre-de-jeux-2024-2/
END:VEVENT
BEGIN:VEVENT
DTSTART;TZID=Europe/Paris:20240707T080000
DTEND;TZID=Europe/Paris:20240707T180000
DTSTAMP:20260422T182137
CREATED:20240611T102938Z
LAST-MODIFIED:20240611T102938Z
UID:9760-1720339200-1720375200@www.louvignedebais.fr
SUMMARY:Élections législatives
DESCRIPTION:
URL:https://www.louvignedebais.fr/agenda/elections-legislatives-4/
LOCATION:Salle Intermède\, rue des Diligences\, Louvigné-de-Bais
END:VEVENT
END:VCALENDAR