BEGIN:VCALENDAR
VERSION:2.0
PRODID:-//Louvigné-de-Bais - ECPv6.15.20//NONSGML v1.0//EN
CALSCALE:GREGORIAN
METHOD:PUBLISH
X-WR-CALNAME:Louvigné-de-Bais
X-ORIGINAL-URL:https://www.louvignedebais.fr
X-WR-CALDESC:Évènements pour Louvigné-de-Bais
REFRESH-INTERVAL;VALUE=DURATION:PT1H
X-Robots-Tag:noindex
X-PUBLISHED-TTL:PT1H
BEGIN:VTIMEZONE
TZID:Europe/Paris
BEGIN:DAYLIGHT
TZOFFSETFROM:+0100
TZOFFSETTO:+0200
TZNAME:CEST
DTSTART:20230326T010000
END:DAYLIGHT
BEGIN:STANDARD
TZOFFSETFROM:+0200
TZOFFSETTO:+0100
TZNAME:CET
DTSTART:20231029T010000
END:STANDARD
BEGIN:DAYLIGHT
TZOFFSETFROM:+0100
TZOFFSETTO:+0200
TZNAME:CEST
DTSTART:20240331T010000
END:DAYLIGHT
BEGIN:STANDARD
TZOFFSETFROM:+0200
TZOFFSETTO:+0100
TZNAME:CET
DTSTART:20241027T010000
END:STANDARD
BEGIN:DAYLIGHT
TZOFFSETFROM:+0100
TZOFFSETTO:+0200
TZNAME:CEST
DTSTART:20250330T010000
END:DAYLIGHT
BEGIN:STANDARD
TZOFFSETFROM:+0200
TZOFFSETTO:+0100
TZNAME:CET
DTSTART:20251026T010000
END:STANDARD
END:VTIMEZONE
BEGIN:VEVENT
DTSTART;TZID=Europe/Paris:20240601T203000
DTEND;TZID=Europe/Paris:20240601T223000
DTSTAMP:20260422T194204
CREATED:20240427T085552Z
LAST-MODIFIED:20240427T085731Z
UID:9689-1717273800-1717281000@www.louvignedebais.fr
SUMMARY:Spectacle du Cabaret du Cœur
DESCRIPTION:
URL:https://www.louvignedebais.fr/agenda/spectacle-du-cabaret-du-coeur-2/
LOCATION:Salle Intermède\, rue des Diligences\, Louvigné-de-Bais
ATTACH;FMTTYPE=image/png:https://www.louvignedebais.fr/wp-content/uploads/2024/04/06-Affiche-cabaret-du-coeur.png
END:VEVENT
BEGIN:VEVENT
DTSTART;TZID=Europe/Paris:20240602T150000
DTEND;TZID=Europe/Paris:20240602T170000
DTSTAMP:20260422T194204
CREATED:20240427T085707Z
LAST-MODIFIED:20240427T085707Z
UID:9691-1717340400-1717347600@www.louvignedebais.fr
SUMMARY:Spectacle du Cabaret du Cœur
DESCRIPTION:
URL:https://www.louvignedebais.fr/agenda/spectacle-du-cabaret-du-coeur-3/
LOCATION:Salle Intermède\, rue des Diligences\, Louvigné-de-Bais
ATTACH;FMTTYPE=image/png:https://www.louvignedebais.fr/wp-content/uploads/2024/04/06-Affiche-cabaret-du-coeur.png
END:VEVENT
BEGIN:VEVENT
DTSTART;TZID=Europe/Paris:20240609T080000
DTEND;TZID=Europe/Paris:20240609T170000
DTSTAMP:20260422T194204
CREATED:20240427T085820Z
LAST-MODIFIED:20240427T085820Z
UID:9694-1717920000-1717952400@www.louvignedebais.fr
SUMMARY:Élections Européennes
DESCRIPTION:
URL:https://www.louvignedebais.fr/agenda/elections-europeennes/
LOCATION:Salle Intermède\, rue des Diligences\, Louvigné-de-Bais
END:VEVENT
BEGIN:VEVENT
DTSTART;TZID=Europe/Paris:20240615T213000
DTEND;TZID=Europe/Paris:20240615T230000
DTSTAMP:20260422T194204
CREATED:20240404T071830Z
LAST-MODIFIED:20240404T072400Z
UID:9546-1718487000-1718492400@www.louvignedebais.fr
SUMMARY:Cinéma plein air
DESCRIPTION:
URL:https://www.louvignedebais.fr/agenda/cinema-plein-air/
LOCATION:Espace Intermède
END:VEVENT
BEGIN:VEVENT
DTSTART;VALUE=DATE:20240622
DTEND;VALUE=DATE:20240623
DTSTAMP:20260422T194204
CREATED:20240427T100310Z
LAST-MODIFIED:20240427T100310Z
UID:9703-1719014400-1719100799@www.louvignedebais.fr
SUMMARY:Fête de fin d'année scolaire
DESCRIPTION:
URL:https://www.louvignedebais.fr/agenda/fete-de-fin-dannee-scolaire/
LOCATION:Espace Intermède
END:VEVENT
BEGIN:VEVENT
DTSTART;VALUE=DATE:20240623
DTEND;VALUE=DATE:20240624
DTSTAMP:20260422T194204
CREATED:20240427T100350Z
LAST-MODIFIED:20240427T100350Z
UID:9705-1719100800-1719187199@www.louvignedebais.fr
SUMMARY:Fête de fin d'année scolaire
DESCRIPTION:
URL:https://www.louvignedebais.fr/agenda/fete-de-fin-dannee-scolaire-2/
LOCATION:Espace Intermède
END:VEVENT
BEGIN:VEVENT
DTSTART;TZID=Europe/Paris:20240625T190000
DTEND;TZID=Europe/Paris:20240625T210000
DTSTAMP:20260422T194204
CREATED:20240427T100455Z
LAST-MODIFIED:20240621T103531Z
UID:9707-1719342000-1719349200@www.louvignedebais.fr
SUMMARY:Conseil municipal
DESCRIPTION:Convocation et ordre du jour de la séance du 25 juin 2024
URL:https://www.louvignedebais.fr/agenda/conseil-municipal-22/
LOCATION:Salle Intermède\, rue des Diligences\, Louvigné-de-Bais
END:VEVENT
BEGIN:VEVENT
DTSTART;TZID=Europe/Paris:20240627T183000
DTEND;TZID=Europe/Paris:20240627T203000
DTSTAMP:20260422T194204
CREATED:20240510T084646Z
LAST-MODIFIED:20240510T084646Z
UID:9721-1719513000-1719520200@www.louvignedebais.fr
SUMMARY:VERNISSAGE ATELIER D'ARTS PLASTIQUES
DESCRIPTION:L’atelier d’arts plastiques organise le \nvernissage des travaux de l’année à l’atelier  \nle jeudi 27 juin  \nà partir de 18h30 \nau centre culturel Anne de Bretagne.  \nOuvert à tous et gratuit !
URL:https://www.louvignedebais.fr/agenda/vernissage-atelier-darts-plastiques/
LOCATION:Espace Culturel\, rue Mme de Sévigné
ATTACH;FMTTYPE=image/png:https://www.louvignedebais.fr/wp-content/uploads/2024/05/06.27-Vernissage-atelier-darts-plastiques.png
END:VEVENT
BEGIN:VEVENT
DTSTART;TZID=Europe/Paris:20240628T203000
DTEND;TZID=Europe/Paris:20240628T223000
DTSTAMP:20260422T194204
CREATED:20240427T095231Z
LAST-MODIFIED:20240613T143707Z
UID:9697-1719606600-1719613800@www.louvignedebais.fr
SUMMARY:Spectacle de la Danse Louvignéenne
DESCRIPTION:La danse Louvignéenne organise son spectacle de fin d’année \n« Danse autour du monde » \nLes billetteries sont ouvertes (via les QR codes ou les liens ci-dessous) : \nLien réservation vendredi 28-06 à 20H30
URL:https://www.louvignedebais.fr/agenda/spectacle-de-la-danse-louvigneenne-2/
LOCATION:Salle Intermède\, rue des Diligences\, Louvigné-de-Bais
ATTACH;FMTTYPE=image/png:https://www.louvignedebais.fr/wp-content/uploads/2024/06/06.28-AFFICHE-danse.png
END:VEVENT
BEGIN:VEVENT
DTSTART;VALUE=DATE:20240629
DTEND;VALUE=DATE:20240630
DTSTAMP:20260422T194204
CREATED:20240427T095435Z
LAST-MODIFIED:20240427T095435Z
UID:9701-1719619200-1719705599@www.louvignedebais.fr
SUMMARY:10 ans du club Les p'tites raquettes
DESCRIPTION:ans
URL:https://www.louvignedebais.fr/agenda/10-ans-du-club-les-ptites-raquettes/
LOCATION:Salle du Club\, chemin des Diligences\, Louvigné-de-Bais\, France
END:VEVENT
BEGIN:VEVENT
DTSTART;TZID=Europe/Paris:20240629T170000
DTEND;TZID=Europe/Paris:20240629T193000
DTSTAMP:20260422T194204
CREATED:20240427T095319Z
LAST-MODIFIED:20240613T143636Z
UID:9699-1719680400-1719689400@www.louvignedebais.fr
SUMMARY:Spectacle de la Danse Louvignéenne
DESCRIPTION:La danse Louvignéenne organise son spectacle de fin d’année \n« Danse autour du monde » \nLes billetteries sont ouvertes (via les QR codes ou les liens ci-dessous) : \nLien réservation samedi 29-06 à 17H
URL:https://www.louvignedebais.fr/agenda/spectacle-de-la-danse-louvigneenne-3/
LOCATION:Salle Intermède\, rue des Diligences\, Louvigné-de-Bais
ATTACH;FMTTYPE=image/png:https://www.louvignedebais.fr/wp-content/uploads/2024/06/06.28-AFFICHE-danse.png
END:VEVENT
BEGIN:VEVENT
DTSTART;TZID=Europe/Paris:20240630T080000
DTEND;TZID=Europe/Paris:20240630T180000
DTSTAMP:20260422T194204
CREATED:20240611T102906Z
LAST-MODIFIED:20240611T102906Z
UID:9758-1719734400-1719770400@www.louvignedebais.fr
SUMMARY:Élections législatives
DESCRIPTION:
URL:https://www.louvignedebais.fr/agenda/elections-legislatives-3/
LOCATION:Salle Intermède\, rue des Diligences\, Louvigné-de-Bais
END:VEVENT
END:VCALENDAR