BEGIN:VCALENDAR
VERSION:2.0
PRODID:-//Louvigné-de-Bais - ECPv6.15.20//NONSGML v1.0//EN
CALSCALE:GREGORIAN
METHOD:PUBLISH
X-WR-CALNAME:Louvigné-de-Bais
X-ORIGINAL-URL:https://www.louvignedebais.fr
X-WR-CALDESC:Évènements pour Louvigné-de-Bais
REFRESH-INTERVAL;VALUE=DURATION:PT1H
X-Robots-Tag:noindex
X-PUBLISHED-TTL:PT1H
BEGIN:VTIMEZONE
TZID:Europe/Paris
BEGIN:DAYLIGHT
TZOFFSETFROM:+0100
TZOFFSETTO:+0200
TZNAME:CEST
DTSTART:20230326T010000
END:DAYLIGHT
BEGIN:STANDARD
TZOFFSETFROM:+0200
TZOFFSETTO:+0100
TZNAME:CET
DTSTART:20231029T010000
END:STANDARD
BEGIN:DAYLIGHT
TZOFFSETFROM:+0100
TZOFFSETTO:+0200
TZNAME:CEST
DTSTART:20240331T010000
END:DAYLIGHT
BEGIN:STANDARD
TZOFFSETFROM:+0200
TZOFFSETTO:+0100
TZNAME:CET
DTSTART:20241027T010000
END:STANDARD
BEGIN:DAYLIGHT
TZOFFSETFROM:+0100
TZOFFSETTO:+0200
TZNAME:CEST
DTSTART:20250330T010000
END:DAYLIGHT
BEGIN:STANDARD
TZOFFSETFROM:+0200
TZOFFSETTO:+0100
TZNAME:CET
DTSTART:20251026T010000
END:STANDARD
END:VTIMEZONE
BEGIN:VEVENT
DTSTART;TZID=Europe/Paris:20240308T143000
DTEND;TZID=Europe/Paris:20240308T163000
DTSTAMP:20260423T001053
CREATED:20240223T125931Z
LAST-MODIFIED:20240223T130016Z
UID:9414-1709908200-1709915400@www.louvignedebais.fr
SUMMARY:Après-midi jeux
DESCRIPTION:
URL:https://www.louvignedebais.fr/agenda/9414/
LOCATION:Bibliothèque
ATTACH;FMTTYPE=image/png:https://www.louvignedebais.fr/wp-content/uploads/2024/02/03.08-Affiche-bibliotheque.png
ORGANIZER;CN="Biblioth%C3%A8que municipale":MAILTO:bibliotheque@louvignedebais.fr
END:VEVENT
BEGIN:VEVENT
DTSTART;TZID=Europe/Paris:20240315T133000
DTEND;TZID=Europe/Paris:20240315T170000
DTSTAMP:20260423T001053
CREATED:20240122T134018Z
LAST-MODIFIED:20240227T093102Z
UID:9318-1710509400-1710522000@www.louvignedebais.fr
SUMMARY:Concours de belote
DESCRIPTION:
URL:https://www.louvignedebais.fr/agenda/concours-de-belote-3/
LOCATION:Salle Intermède\, rue des Diligences\, Louvigné-de-Bais
END:VEVENT
BEGIN:VEVENT
DTSTART;TZID=Europe/Paris:20240316T190000
DTEND;TZID=Europe/Paris:20240316T233000
DTSTAMP:20260423T001053
CREATED:20240122T134118Z
LAST-MODIFIED:20240227T093301Z
UID:9320-1710615600-1710631800@www.louvignedebais.fr
SUMMARY:Soirée Saint Patrick
DESCRIPTION:
URL:https://www.louvignedebais.fr/agenda/soiree-saint-patrick/
LOCATION:Salle Intermède\, rue des Diligences\, Louvigné-de-Bais
ATTACH;FMTTYPE=image/jpeg:https://www.louvignedebais.fr/wp-content/uploads/2024/02/03.16-Soiree-St-Patrick-SLFC.jpg
END:VEVENT
BEGIN:VEVENT
DTSTART;TZID=Europe/Paris:20240319T190000
DTEND;TZID=Europe/Paris:20240319T230000
DTSTAMP:20260423T001053
CREATED:20240209T145118Z
LAST-MODIFIED:20240318T103829Z
UID:9380-1710874800-1710889200@www.louvignedebais.fr
SUMMARY:Conseil Municipal
DESCRIPTION:Convocation et ordre du jour de la séance du 19 mars 2024
URL:https://www.louvignedebais.fr/agenda/conseil-municipal-19/
LOCATION:Salle Intermède\, rue des Diligences\, Louvigné-de-Bais
END:VEVENT
BEGIN:VEVENT
DTSTART;TZID=Europe/Paris:20240323T100000
DTEND;TZID=Europe/Paris:20240323T130000
DTSTAMP:20260423T001053
CREATED:20240314T100350Z
LAST-MODIFIED:20240314T100350Z
UID:9482-1711188000-1711198800@www.louvignedebais.fr
SUMMARY:Exposition philatélique
DESCRIPTION:À l’occasion de la sortie du livre de Jean-Luc Hinault\, « Expositions philatéliques ».\nL’auteur sera en dédicaces le samedi 23 mars 2024\, de 10 h à 13 h.\n\n\n À la bibliothèque de Louvigné-de-Bais\n\n\nEntrée libre et gratuite
URL:https://www.louvignedebais.fr/agenda/exposition-philatelique/
LOCATION:Bibliothèque
ATTACH;FMTTYPE=image/png:https://www.louvignedebais.fr/wp-content/uploads/2024/03/Expo-philatelique.png
ORGANIZER;CN="Biblioth%C3%A8que municipale":MAILTO:bibliotheque@louvignedebais.fr
END:VEVENT
BEGIN:VEVENT
DTSTART;TZID=Europe/Paris:20240324T090000
DTEND;TZID=Europe/Paris:20240324T170000
DTSTAMP:20260423T001053
CREATED:20240122T090644Z
LAST-MODIFIED:20240126T111937Z
UID:9299-1711270800-1711299600@www.louvignedebais.fr
SUMMARY:Vide-greniers
DESCRIPTION:L’APEL et l’OGEC organisent une nouvelle édition du vide greniers le dimanche 24 mars de 9h à 17h.  \nLes inscriptions sont ouvertes via Hello asso : https://www.helloasso.com/associations/apel-saint-patern/evenements/vide-grenier-louvigne-de-bais \n 
URL:https://www.louvignedebais.fr/agenda/vide-greniers/
LOCATION:Salle Polyvalente\, Route des Diligences\, Louvigné de Bais
ATTACH;FMTTYPE=image/png:https://www.louvignedebais.fr/wp-content/uploads/2024/01/03.24-Vide-grenier-LDB.png
END:VEVENT
END:VCALENDAR