BEGIN:VCALENDAR
VERSION:2.0
PRODID:-//Louvigné-de-Bais - ECPv6.15.20//NONSGML v1.0//EN
CALSCALE:GREGORIAN
METHOD:PUBLISH
X-WR-CALNAME:Louvigné-de-Bais
X-ORIGINAL-URL:https://www.louvignedebais.fr
X-WR-CALDESC:Évènements pour Louvigné-de-Bais
REFRESH-INTERVAL;VALUE=DURATION:PT1H
X-Robots-Tag:noindex
X-PUBLISHED-TTL:PT1H
BEGIN:VTIMEZONE
TZID:Europe/Paris
BEGIN:DAYLIGHT
TZOFFSETFROM:+0100
TZOFFSETTO:+0200
TZNAME:CEST
DTSTART:20230326T010000
END:DAYLIGHT
BEGIN:STANDARD
TZOFFSETFROM:+0200
TZOFFSETTO:+0100
TZNAME:CET
DTSTART:20231029T010000
END:STANDARD
BEGIN:DAYLIGHT
TZOFFSETFROM:+0100
TZOFFSETTO:+0200
TZNAME:CEST
DTSTART:20240331T010000
END:DAYLIGHT
BEGIN:STANDARD
TZOFFSETFROM:+0200
TZOFFSETTO:+0100
TZNAME:CET
DTSTART:20241027T010000
END:STANDARD
BEGIN:DAYLIGHT
TZOFFSETFROM:+0100
TZOFFSETTO:+0200
TZNAME:CEST
DTSTART:20250330T010000
END:DAYLIGHT
BEGIN:STANDARD
TZOFFSETFROM:+0200
TZOFFSETTO:+0100
TZNAME:CET
DTSTART:20251026T010000
END:STANDARD
END:VTIMEZONE
BEGIN:VEVENT
DTSTART;TZID=Europe/Paris:20240204T140000
DTEND;TZID=Europe/Paris:20240204T180000
DTSTAMP:20260423T032230
CREATED:20231212T161745Z
LAST-MODIFIED:20240126T111850Z
UID:9166-1707055200-1707069600@www.louvignedebais.fr
SUMMARY:Loto
DESCRIPTION:
URL:https://www.louvignedebais.fr/agenda/loto-4/
LOCATION:Salle Intermède\, rue des Diligences\, Louvigné-de-Bais
ATTACH;FMTTYPE=image/png:https://www.louvignedebais.fr/wp-content/uploads/2024/01/02.04-Loto-de-lENVOL.png
END:VEVENT
BEGIN:VEVENT
DTSTART;TZID=Europe/Paris:20240209T203000
DTEND;TZID=Europe/Paris:20240209T230000
DTSTAMP:20260423T032230
CREATED:20231229T144604Z
LAST-MODIFIED:20231229T144604Z
UID:9225-1707510600-1707519600@www.louvignedebais.fr
SUMMARY:Sister Act - Comédie musicale
DESCRIPTION:www.cieartscene.fr \n 
URL:https://www.louvignedebais.fr/agenda/sister-act-comedie-musicale-7/
LOCATION:Salle Intermède\, rue des Diligences\, Louvigné-de-Bais
END:VEVENT
BEGIN:VEVENT
DTSTART;TZID=Europe/Paris:20240210T203000
DTEND;TZID=Europe/Paris:20240210T230000
DTSTAMP:20260423T032230
CREATED:20231229T144716Z
LAST-MODIFIED:20231229T144716Z
UID:9228-1707597000-1707606000@www.louvignedebais.fr
SUMMARY:Sister Act - Comédie musicale
DESCRIPTION:www.cieartscene.fr
URL:https://www.louvignedebais.fr/agenda/sister-act-comedie-musicale-8/
LOCATION:Salle Intermède\, rue des Diligences\, Louvigné-de-Bais
END:VEVENT
BEGIN:VEVENT
DTSTART;TZID=Europe/Paris:20240211T143000
DTEND;TZID=Europe/Paris:20240211T170000
DTSTAMP:20260423T032230
CREATED:20231229T144821Z
LAST-MODIFIED:20231229T144821Z
UID:9230-1707661800-1707670800@www.louvignedebais.fr
SUMMARY:Sister Act - Comédie musicale
DESCRIPTION:www.cieartscene.fr
URL:https://www.louvignedebais.fr/agenda/sister-act-comedie-musicale-9/
LOCATION:Salle Intermède\, rue des Diligences\, Louvigné-de-Bais
END:VEVENT
BEGIN:VEVENT
DTSTART;TZID=Europe/Paris:20240220T190000
DTEND;TZID=Europe/Paris:20240220T230000
DTSTAMP:20260423T032230
CREATED:20240115T101308Z
LAST-MODIFIED:20240219T081444Z
UID:9276-1708455600-1708470000@www.louvignedebais.fr
SUMMARY:Conseil Municipal
DESCRIPTION:Convocation et ordre du jour de la séance du 20 février 2024
URL:https://www.louvignedebais.fr/agenda/conseil-municipal-18/
END:VEVENT
BEGIN:VEVENT
DTSTART;TZID=Europe/Paris:20240223T180000
DTEND;TZID=Europe/Paris:20240223T210000
DTSTAMP:20260423T032230
CREATED:20240122T085651Z
LAST-MODIFIED:20240206T110038Z
UID:9297-1708711200-1708722000@www.louvignedebais.fr
SUMMARY:Boum du CME
DESCRIPTION:Boum organisée par le CME
URL:https://www.louvignedebais.fr/agenda/boom/
LOCATION:Salle Intermède\, rue des Diligences\, Louvigné-de-Bais
ATTACH;FMTTYPE=image/png:https://www.louvignedebais.fr/wp-content/uploads/2024/02/Affiche-Boum-CME.png
END:VEVENT
BEGIN:VEVENT
DTSTART;TZID=Europe/Paris:20240226T140000
DTEND;TZID=Europe/Paris:20240226T170000
DTSTAMP:20260423T032230
CREATED:20240126T093145Z
LAST-MODIFIED:20240126T093145Z
UID:9349-1708956000-1708966800@www.louvignedebais.fr
SUMMARY:Stage de modelage
DESCRIPTION:L’atelier d’Arts Plastiques  \norganise un stage de modelage  \nAu prix de 35 € (matériaux fournis) \nÀ partir de 6 ans \nRenseignements au 06 66 87 68 38 \nInscriptions jusqu’au 12 février via Hello Asso
URL:https://www.louvignedebais.fr/agenda/stage-de-modelage/
LOCATION:Atelier d’Arts Plastiques\, 35 rue Madame de Sévigné\, 35680 LOUVIGNÉ-DE-BAIS
ATTACH;FMTTYPE=image/jpeg:https://www.louvignedebais.fr/wp-content/uploads/2024/01/02.26-Stage-modelage-Arts-Plastiques.jpg
END:VEVENT
END:VCALENDAR