BEGIN:VCALENDAR
VERSION:2.0
PRODID:-//Louvigné-de-Bais - ECPv6.15.20//NONSGML v1.0//EN
CALSCALE:GREGORIAN
METHOD:PUBLISH
X-ORIGINAL-URL:https://www.louvignedebais.fr
X-WR-CALDESC:Évènements pour Louvigné-de-Bais
REFRESH-INTERVAL;VALUE=DURATION:PT1H
X-Robots-Tag:noindex
X-PUBLISHED-TTL:PT1H
BEGIN:VTIMEZONE
TZID:Europe/Paris
BEGIN:DAYLIGHT
TZOFFSETFROM:+0100
TZOFFSETTO:+0200
TZNAME:CEST
DTSTART:20220327T010000
END:DAYLIGHT
BEGIN:STANDARD
TZOFFSETFROM:+0200
TZOFFSETTO:+0100
TZNAME:CET
DTSTART:20221030T010000
END:STANDARD
BEGIN:DAYLIGHT
TZOFFSETFROM:+0100
TZOFFSETTO:+0200
TZNAME:CEST
DTSTART:20230326T010000
END:DAYLIGHT
BEGIN:STANDARD
TZOFFSETFROM:+0200
TZOFFSETTO:+0100
TZNAME:CET
DTSTART:20231029T010000
END:STANDARD
BEGIN:DAYLIGHT
TZOFFSETFROM:+0100
TZOFFSETTO:+0200
TZNAME:CEST
DTSTART:20240331T010000
END:DAYLIGHT
BEGIN:STANDARD
TZOFFSETFROM:+0200
TZOFFSETTO:+0100
TZNAME:CET
DTSTART:20241027T010000
END:STANDARD
END:VTIMEZONE
BEGIN:VEVENT
DTSTART;VALUE=DATE:20231202
DTEND;VALUE=DATE:20231204
DTSTAMP:20260423T050122
CREATED:20221123T154108Z
LAST-MODIFIED:20221123T154108Z
UID:8427-1701475200-1701647999@www.louvignedebais.fr
SUMMARY:sainte Barbe
DESCRIPTION:
URL:https://www.louvignedebais.fr/agenda/sainte-barbe-3/
LOCATION:Salle Intermède\, rue des Diligences\, Louvigné-de-Bais
END:VEVENT
BEGIN:VEVENT
DTSTART;TZID=Europe/Paris:20231208T200000
DTEND;TZID=Europe/Paris:20231208T210000
DTSTAMP:20260423T050122
CREATED:20231127T155325Z
LAST-MODIFIED:20231128T103427Z
UID:9124-1702065600-1702069200@www.louvignedebais.fr
SUMMARY:Spectacle « La lettre au Père Noël »
DESCRIPTION:Par la compagnie Bulles de rêves\nGratuit – Tout public\nTéléchargez l’affiche de le lettre au Père-Noël
URL:https://www.louvignedebais.fr/agenda/spectacle-la-lettre-au-pere-noel/
LOCATION:Salle Intermède\, rue des Diligences\, Louvigné-de-Bais
ATTACH;FMTTYPE=image/jpeg:https://www.louvignedebais.fr/wp-content/uploads/2023/11/Affiche-LPN-scaled.jpg
ORGANIZER;CN="Biblioth%C3%A8que municipale":MAILTO:bibliotheque@louvignedebais.fr
END:VEVENT
BEGIN:VEVENT
DTSTART;VALUE=DATE:20231209
DTEND;VALUE=DATE:20231211
DTSTAMP:20260423T050122
CREATED:20231127T160611Z
LAST-MODIFIED:20231127T160611Z
UID:9126-1702080000-1702252799@www.louvignedebais.fr
SUMMARY:Animations de fin d'année
DESCRIPTION:Télécharger l’affiche de l’évènement en PDF
URL:https://www.louvignedebais.fr/agenda/animations-de-fin-dannee/
LOCATION:Place Beau Soleil
ATTACH;FMTTYPE=image/png:https://www.louvignedebais.fr/wp-content/uploads/2023/11/Animations_decembre_2023-e1701956226891.png
END:VEVENT
BEGIN:VEVENT
DTSTART;VALUE=DATE:20231210
DTEND;VALUE=DATE:20231211
DTSTAMP:20260423T050122
CREATED:20221123T153815Z
LAST-MODIFIED:20221123T153815Z
UID:8424-1702166400-1702252799@www.louvignedebais.fr
SUMMARY:Marché de Noel
DESCRIPTION:
URL:https://www.louvignedebais.fr/agenda/marche-de-noel-3/
LOCATION:Salle Intermède\, rue des Diligences\, Louvigné-de-Bais
END:VEVENT
BEGIN:VEVENT
DTSTART;TZID=Europe/Paris:20231216T200000
DTEND;TZID=Europe/Paris:20231216T233000
DTSTAMP:20260423T050122
CREATED:20231212T142714Z
LAST-MODIFIED:20231212T142714Z
UID:9156-1702756800-1702769400@www.louvignedebais.fr
SUMMARY:Loto
DESCRIPTION:
URL:https://www.louvignedebais.fr/agenda/loto-3/
LOCATION:Salle Intermède\, rue des Diligences\, Louvigné-de-Bais
END:VEVENT
BEGIN:VEVENT
DTSTART;TZID=Europe/Paris:20231219T190000
DTEND;TZID=Europe/Paris:20231219T230000
DTSTAMP:20260423T050122
CREATED:20231218T101559Z
LAST-MODIFIED:20231218T101559Z
UID:9188-1703012400-1703026800@www.louvignedebais.fr
SUMMARY:Conseil Municipal
DESCRIPTION:Convocation et ordre du jour de la séance du 19 décembre 2023
URL:https://www.louvignedebais.fr/agenda/conseil-municipal-16/
LOCATION:Salle Intermède\, rue des Diligences\, Louvigné-de-Bais
END:VEVENT
END:VCALENDAR