BEGIN:VCALENDAR
VERSION:2.0
PRODID:-//Louvigné-de-Bais - ECPv6.15.20//NONSGML v1.0//EN
CALSCALE:GREGORIAN
METHOD:PUBLISH
X-WR-CALNAME:Louvigné-de-Bais
X-ORIGINAL-URL:https://www.louvignedebais.fr
X-WR-CALDESC:Évènements pour Louvigné-de-Bais
REFRESH-INTERVAL;VALUE=DURATION:PT1H
X-Robots-Tag:noindex
X-PUBLISHED-TTL:PT1H
BEGIN:VTIMEZONE
TZID:Europe/Paris
BEGIN:DAYLIGHT
TZOFFSETFROM:+0100
TZOFFSETTO:+0200
TZNAME:CEST
DTSTART:20220327T010000
END:DAYLIGHT
BEGIN:STANDARD
TZOFFSETFROM:+0200
TZOFFSETTO:+0100
TZNAME:CET
DTSTART:20221030T010000
END:STANDARD
BEGIN:DAYLIGHT
TZOFFSETFROM:+0100
TZOFFSETTO:+0200
TZNAME:CEST
DTSTART:20230326T010000
END:DAYLIGHT
BEGIN:STANDARD
TZOFFSETFROM:+0200
TZOFFSETTO:+0100
TZNAME:CET
DTSTART:20231029T010000
END:STANDARD
BEGIN:DAYLIGHT
TZOFFSETFROM:+0100
TZOFFSETTO:+0200
TZNAME:CEST
DTSTART:20240331T010000
END:DAYLIGHT
BEGIN:STANDARD
TZOFFSETFROM:+0200
TZOFFSETTO:+0100
TZNAME:CET
DTSTART:20241027T010000
END:STANDARD
END:VTIMEZONE
BEGIN:VEVENT
DTSTART;TZID=Europe/Paris:20231110T203000
DTEND;TZID=Europe/Paris:20231110T233000
DTSTAMP:20260423T061912
CREATED:20231106T191613Z
LAST-MODIFIED:20231106T191613Z
UID:9072-1699648200-1699659000@www.louvignedebais.fr
SUMMARY:SISTER ACT – COMÉDIE MUSICALE
DESCRIPTION:Nouveau ! dernière chance pour assister au spectacle Sister Act.\nCompte tenu du succès des réservations pour le spectacle SISTER ACT\, la compagnie d’Art Scène a décidé d’ouvrir une nouvelle date\n le VENDREDI 10 NOVEMBRE à 20h30.\nRéservations au 06 68 29 88 84 ou sur www.cieartscene.fr
URL:https://www.louvignedebais.fr/agenda/sister-act-comedie-musicale-6/
LOCATION:Salle Intermède\, rue des Diligences\, Louvigné-de-Bais
END:VEVENT
BEGIN:VEVENT
DTSTART;TZID=Europe/Paris:20231111T203000
DTEND;TZID=Europe/Paris:20231111T230000
DTSTAMP:20260423T061912
CREATED:20231004T123255Z
LAST-MODIFIED:20231004T123838Z
UID:9020-1699734600-1699743600@www.louvignedebais.fr
SUMMARY:Sister Act - Comédie musicale
DESCRIPTION:www.cieartscene.fr \n 
URL:https://www.louvignedebais.fr/agenda/sister-act-comedie-musicale/
LOCATION:Salle Intermède\, rue des Diligences\, Louvigné-de-Bais
END:VEVENT
BEGIN:VEVENT
DTSTART;TZID=Europe/Paris:20231112T103000
DTEND;TZID=Europe/Paris:20231112T123000
DTSTAMP:20260423T061912
CREATED:20171016T195645Z
LAST-MODIFIED:20231112T081638Z
UID:4437-1699785000-1699792200@www.louvignedebais.fr
SUMMARY:Commémoration de l’armistice du 11 novembre
DESCRIPTION:Commémoration de l’armistice\n\n10 h 30 : Commémoration au monument aux morts de Louvigné\n\nDépôt de gerbes \, messages de Mr le Maire et du Président\nSuivi d’un Vin d’honneur offert par la municipalité de Louvigné\, à la salle du Club.\n\n\n11 h 45 : Cérémonie au monument aux morts de Chancé\n\n 
URL:https://www.louvignedebais.fr/agenda/commemoration-de-larmistice-du-11-novembre/
LOCATION:Monument aux morts\, place de la Mairie\, LOUVIGNE DE BAIS
ATTACH;FMTTYPE=image/png:https://www.louvignedebais.fr/wp-content/uploads/2016/02/Drapeau.png
END:VEVENT
BEGIN:VEVENT
DTSTART;TZID=Europe/Paris:20231112T143000
DTEND;TZID=Europe/Paris:20231112T170000
DTSTAMP:20260423T061912
CREATED:20231004T123736Z
LAST-MODIFIED:20231004T123736Z
UID:9023-1699799400-1699808400@www.louvignedebais.fr
SUMMARY:Sister Act - Comédie musicale
DESCRIPTION:www.cieartscene.fr \n 
URL:https://www.louvignedebais.fr/agenda/sister-act-comedie-musicale-2/
LOCATION:Salle Intermède\, rue des Diligences\, Louvigné-de-Bais
END:VEVENT
BEGIN:VEVENT
DTSTART;TZID=Europe/Paris:20231117T203000
DTEND;TZID=Europe/Paris:20231117T230000
DTSTAMP:20260423T061912
CREATED:20231004T123955Z
LAST-MODIFIED:20231023T155714Z
UID:9026-1700253000-1700262000@www.louvignedebais.fr
SUMMARY:Sister Act - Comédie musicale
DESCRIPTION:www.cieartscene.fr \n 
URL:https://www.louvignedebais.fr/agenda/sister-act-comedie-musicale-3/
LOCATION:Salle Intermède\, rue des Diligences\, Louvigné-de-Bais
END:VEVENT
BEGIN:VEVENT
DTSTART;TZID=Europe/Paris:20231118T203000
DTEND;TZID=Europe/Paris:20231118T230000
DTSTAMP:20260423T061912
CREATED:20231004T124201Z
LAST-MODIFIED:20231023T155642Z
UID:9028-1700339400-1700348400@www.louvignedebais.fr
SUMMARY:Sister Act - Comédie musicale
DESCRIPTION:www.cieartscene.fr \n 
URL:https://www.louvignedebais.fr/agenda/sister-act-comedie-musicale-4/
LOCATION:Salle Intermède\, rue des Diligences\, Louvigné-de-Bais
END:VEVENT
BEGIN:VEVENT
DTSTART;TZID=Europe/Paris:20231119T143000
DTEND;TZID=Europe/Paris:20231119T170000
DTSTAMP:20260423T061912
CREATED:20231004T124309Z
LAST-MODIFIED:20231106T191425Z
UID:9030-1700404200-1700413200@www.louvignedebais.fr
SUMMARY:Sister Act - Comédie musicale
DESCRIPTION:Nouveau ! dernière chance pour assister au spectacle Sister Act.\nCompte tenu du succès des réservations pour le spectacle SISTER ACT\, la compagnie d’Art Scène a décidé d’ouvrir une nouvelle date\n le VENDREDI 10 NOVEMBRE à 20h30.\nRéservations au 06 68 29 88 84 ou sur www.cieartscene.fr\n\n\n\n\n 
URL:https://www.louvignedebais.fr/agenda/sister-act-comedie-musicale-5/
LOCATION:Salle Intermède\, rue des Diligences\, Louvigné-de-Bais
END:VEVENT
BEGIN:VEVENT
DTSTART;TZID=Europe/Paris:20231121T190000
DTEND;TZID=Europe/Paris:20231121T210000
DTSTAMP:20260423T061912
CREATED:20231120T112324Z
LAST-MODIFIED:20231120T113133Z
UID:9084-1700593200-1700600400@www.louvignedebais.fr
SUMMARY:Conseil municipal
DESCRIPTION:Ordre du jour de la séance du 21/11/2023 \n\nMarché public – Lancement de la procédure d’appel d’offres pour la tranche 4 des travaux de l’église Saint Patern\nMarché public – Lancement de la procédure d’appel d’offres pour la tranche 5 des travaux de l’église Saint Patern\nFinances- Décision modificative n°1 du budget annexe du lotissement communal les Manoirs 3\nFinances- Décision modificative n°1 du budget annexe La Villa Bleue\nMotion de soutien aux EHPAD\, RA\, Services d’aide à domicile\, ESMS\nRégion – composition de la conférence régionale de gouvernance de la politique de réduction de l’artificialisation des sols en Bretagne\nIntercommunalité – Financement de la compétence GEMAPI – Accord sur la révision libre des AC\nIntercommunalité – Modification des statuts de Vitré Communauté\nSDE — 35 Rapport d’activités 2022\nSMICTOM — 35 Rapport d’activités 2022
URL:https://www.louvignedebais.fr/agenda/conseil-municipal-15/
LOCATION:Salle Intermède\, rue des Diligences\, Louvigné-de-Bais
ATTACH;FMTTYPE=image/jpeg:https://www.louvignedebais.fr/wp-content/uploads/2016/01/Mairie-1.jpg
END:VEVENT
BEGIN:VEVENT
DTSTART;VALUE=DATE:20231125
DTEND;VALUE=DATE:20231126
DTSTAMP:20260423T061912
CREATED:20221123T153632Z
LAST-MODIFIED:20221123T153632Z
UID:8422-1700870400-1700956799@www.louvignedebais.fr
SUMMARY:repas du Foot
DESCRIPTION:
URL:https://www.louvignedebais.fr/agenda/repas-du-foot/
LOCATION:Salle Intermède\, rue des Diligences\, Louvigné-de-Bais
END:VEVENT
END:VCALENDAR