BEGIN:VCALENDAR
VERSION:2.0
PRODID:-//Louvigné-de-Bais - ECPv6.15.20//NONSGML v1.0//EN
CALSCALE:GREGORIAN
METHOD:PUBLISH
X-ORIGINAL-URL:https://www.louvignedebais.fr
X-WR-CALDESC:Évènements pour Louvigné-de-Bais
REFRESH-INTERVAL;VALUE=DURATION:PT1H
X-Robots-Tag:noindex
X-PUBLISHED-TTL:PT1H
BEGIN:VTIMEZONE
TZID:Europe/Paris
BEGIN:DAYLIGHT
TZOFFSETFROM:+0100
TZOFFSETTO:+0200
TZNAME:CEST
DTSTART:20220327T010000
END:DAYLIGHT
BEGIN:STANDARD
TZOFFSETFROM:+0200
TZOFFSETTO:+0100
TZNAME:CET
DTSTART:20221030T010000
END:STANDARD
BEGIN:DAYLIGHT
TZOFFSETFROM:+0100
TZOFFSETTO:+0200
TZNAME:CEST
DTSTART:20230326T010000
END:DAYLIGHT
BEGIN:STANDARD
TZOFFSETFROM:+0200
TZOFFSETTO:+0100
TZNAME:CET
DTSTART:20231029T010000
END:STANDARD
BEGIN:DAYLIGHT
TZOFFSETFROM:+0100
TZOFFSETTO:+0200
TZNAME:CEST
DTSTART:20240331T010000
END:DAYLIGHT
BEGIN:STANDARD
TZOFFSETFROM:+0200
TZOFFSETTO:+0100
TZNAME:CET
DTSTART:20241027T010000
END:STANDARD
END:VTIMEZONE
BEGIN:VEVENT
DTSTART;VALUE=DATE:20230902
DTEND;VALUE=DATE:20230904
DTSTAMP:20260423T085544
CREATED:20221123T152556Z
LAST-MODIFIED:20221123T152556Z
UID:8413-1693612800-1693785599@www.louvignedebais.fr
SUMMARY:Journée détente
DESCRIPTION:
URL:https://www.louvignedebais.fr/agenda/journee-detente/
LOCATION:Salle du Club\, chemin des Diligences\, Louvigné-de-Bais\, France
END:VEVENT
BEGIN:VEVENT
DTSTART;TZID=Europe/Paris:20230902T090000
DTEND;TZID=Europe/Paris:20230902T130000
DTSTAMP:20260423T085544
CREATED:20221123T151658Z
LAST-MODIFIED:20230831T144450Z
UID:8408-1693645200-1693659600@www.louvignedebais.fr
SUMMARY:Forum des associations
DESCRIPTION:Afiche_Forum_associations_2023
URL:https://www.louvignedebais.fr/agenda/forum-des-associations-3/
LOCATION:Salle Intermède\, rue des Diligences\, Louvigné-de-Bais
END:VEVENT
BEGIN:VEVENT
DTSTART;TZID=Europe/Paris:20230905T190000
DTEND;TZID=Europe/Paris:20230905T210000
DTSTAMP:20260423T085544
CREATED:20230901T140757Z
LAST-MODIFIED:20230901T140757Z
UID:8955-1693940400-1693947600@www.louvignedebais.fr
SUMMARY:Conseil municipal
DESCRIPTION:Ordre du jour de la séance du 05/09/2023
URL:https://www.louvignedebais.fr/agenda/conseil-municipal-14/
LOCATION:Salle Intermède\, rue des Diligences\, Louvigné-de-Bais
END:VEVENT
BEGIN:VEVENT
DTSTART;VALUE=DATE:20230909
DTEND;VALUE=DATE:20230910
DTSTAMP:20260423T085544
CREATED:20221123T152747Z
LAST-MODIFIED:20221123T152747Z
UID:8415-1694217600-1694303999@www.louvignedebais.fr
SUMMARY:journée détente
DESCRIPTION:
URL:https://www.louvignedebais.fr/agenda/journee-detente-3/
LOCATION:Salle du Club\, chemin des Diligences\, Louvigné-de-Bais\, France
END:VEVENT
BEGIN:VEVENT
DTSTART;VALUE=DATE:20230917
DTEND;VALUE=DATE:20230918
DTSTAMP:20260423T085544
CREATED:20230915T073236Z
LAST-MODIFIED:20230915T073236Z
UID:8978-1694908800-1694995199@www.louvignedebais.fr
SUMMARY:Loto des P'tites raquettes
DESCRIPTION:
URL:https://www.louvignedebais.fr/agenda/loto-des-ptites-raquettes/
LOCATION:Salle Intermède\, rue des Diligences\, Louvigné-de-Bais
ATTACH;FMTTYPE=image/jpeg:https://www.louvignedebais.fr/wp-content/uploads/2023/09/FLYER-LOTO.jpg
END:VEVENT
BEGIN:VEVENT
DTSTART;VALUE=DATE:20230923
DTEND;VALUE=DATE:20230924
DTSTAMP:20260423T085544
CREATED:20230915T073414Z
LAST-MODIFIED:20230915T073414Z
UID:8981-1695427200-1695513599@www.louvignedebais.fr
SUMMARY:Repas des classes
DESCRIPTION:
URL:https://www.louvignedebais.fr/agenda/repas-des-classes/
LOCATION:Salle Intermède\, rue des Diligences\, Louvigné-de-Bais
END:VEVENT
BEGIN:VEVENT
DTSTART;VALUE=DATE:20230930
DTEND;VALUE=DATE:20231001
DTSTAMP:20260423T085544
CREATED:20230915T073622Z
LAST-MODIFIED:20230915T073622Z
UID:8983-1696032000-1696118399@www.louvignedebais.fr
SUMMARY:Repas CCAS
DESCRIPTION:
URL:https://www.louvignedebais.fr/agenda/repas-ccas/
LOCATION:Le Bretagne
END:VEVENT
BEGIN:VEVENT
DTSTART;TZID=Europe/Paris:20230930T203000
DTEND;TZID=Europe/Paris:20230930T223000
DTSTAMP:20260423T085544
CREATED:20230831T152000Z
LAST-MODIFIED:20230903T074216Z
UID:8940-1696105800-1696113000@www.louvignedebais.fr
SUMMARY:Soirée jazz manouche
DESCRIPTION:Com’Êtes vous propose une soirée Jazz manouche animée par le groupe Vendredi 13 ; un groupe régional composé de Nicolas Vassili-Barbé (compos\, guitare)\, Laurent Locher (guitare) et Pascal Mastrorizzi (contrebasse) qui joue un « swing manouche hybride\, influencé par leurs personnalités\, leurs origines\, leurs cultures et par leur amour des musiques\, qu’elles soient rock\, jazz\, de l’Est\, etc. ». Un trio avec une passion commune et une référence Django Reinhard. \n \nPour les fans et pour ceux et celles qui souhaitent découvrir\, se laisser surprendre… Rendez-vous le samedi 30 septembre\, à 20h30\, à la Salle intermède de Louvigné de Bais pour 1h30 de musique swing\, et d’inspiration tzigane. \nBuvette accessible tout au long du spectacle.\nEntrée : 13€ (gratuit pour les moins de 12 ans) \nRéservations possibles au bar la Rozell (02 99 49 00 61) ou en ligne sur helloasso.com \nTélécharger l’affiche du spectacle Vendredi 13 \n\n  \nPour en savoir plus sur Vendredi 13\nPage Facebook de Vendredi 13 \nEn route pour Guenroc\, Vendredi Treize sur Youtube \n Les Yeux Noirs\, Vendredi Treize sur Youtube \n Apache (cover) by Vendredi Treize sur Youtube \n 
URL:https://www.louvignedebais.fr/agenda/soiree-jazz-manouche/
LOCATION:Salle Intermède\, rue des Diligences\, Louvigné-de-Bais
ATTACH;FMTTYPE=image/png:https://www.louvignedebais.fr/wp-content/uploads/2022/08/ComEtes-logo.png
END:VEVENT
END:VCALENDAR