BEGIN:VCALENDAR
VERSION:2.0
PRODID:-//Louvigné-de-Bais - ECPv6.15.20//NONSGML v1.0//EN
CALSCALE:GREGORIAN
METHOD:PUBLISH
X-ORIGINAL-URL:https://www.louvignedebais.fr
X-WR-CALDESC:Évènements pour Louvigné-de-Bais
REFRESH-INTERVAL;VALUE=DURATION:PT1H
X-Robots-Tag:noindex
X-PUBLISHED-TTL:PT1H
BEGIN:VTIMEZONE
TZID:Europe/Paris
BEGIN:DAYLIGHT
TZOFFSETFROM:+0100
TZOFFSETTO:+0200
TZNAME:CEST
DTSTART:20220327T010000
END:DAYLIGHT
BEGIN:STANDARD
TZOFFSETFROM:+0200
TZOFFSETTO:+0100
TZNAME:CET
DTSTART:20221030T010000
END:STANDARD
BEGIN:DAYLIGHT
TZOFFSETFROM:+0100
TZOFFSETTO:+0200
TZNAME:CEST
DTSTART:20230326T010000
END:DAYLIGHT
BEGIN:STANDARD
TZOFFSETFROM:+0200
TZOFFSETTO:+0100
TZNAME:CET
DTSTART:20231029T010000
END:STANDARD
BEGIN:DAYLIGHT
TZOFFSETFROM:+0100
TZOFFSETTO:+0200
TZNAME:CEST
DTSTART:20240331T010000
END:DAYLIGHT
BEGIN:STANDARD
TZOFFSETFROM:+0200
TZOFFSETTO:+0100
TZNAME:CET
DTSTART:20241027T010000
END:STANDARD
END:VTIMEZONE
BEGIN:VEVENT
DTSTART;VALUE=DATE:20230701
DTEND;VALUE=DATE:20230702
DTSTAMP:20260423T114354
CREATED:20230523T063527Z
LAST-MODIFIED:20230523T063953Z
UID:8828-1688169600-1688255999@www.louvignedebais.fr
SUMMARY:Croq'Histoires
DESCRIPTION:Animation gratuite – Inscription Obligatoire \n\n 
URL:https://www.louvignedebais.fr/agenda/croqhistoires/
LOCATION:Bibliothèque
END:VEVENT
BEGIN:VEVENT
DTSTART;TZID=Europe/Paris:20230701T203000
DTEND;TZID=Europe/Paris:20230701T203000
DTSTAMP:20260423T114354
CREATED:20221123T151445Z
LAST-MODIFIED:20230331T080208Z
UID:8407-1688243400-1688243400@www.louvignedebais.fr
SUMMARY:spectacle de danse
DESCRIPTION:Spectacle sur le thème de la comédie musicale \nrenseignements : la.danse.louvigneenne@gmail.com \nBillet : \n\nPré-vente : 5 €\nsur place : 7 €\n\nGratuit pour les – 18 ans \n 
URL:https://www.louvignedebais.fr/agenda/spectacle-de-danse/
LOCATION:Salle Intermède\, rue des Diligences\, Louvigné-de-Bais
END:VEVENT
BEGIN:VEVENT
DTSTART;TZID=Europe/Paris:20230702T150000
DTEND;TZID=Europe/Paris:20230702T150000
DTSTAMP:20260423T114354
CREATED:20230331T080411Z
LAST-MODIFIED:20230331T080501Z
UID:8681-1688310000-1688310000@www.louvignedebais.fr
SUMMARY:spectacle de danse
DESCRIPTION:Spectacle sur le thème de la comédie musicale \nrenseignements : la.danse.louvigneenne@gmail.com \nBillet : \n\nPré-vente : 5 €\nsur place : 7 €\n\nGratuit pour les – 18 ans \n 
URL:https://www.louvignedebais.fr/agenda/spectacle-de-danse-2/
LOCATION:Salle Intermède\, rue des Diligences\, Louvigné-de-Bais
END:VEVENT
BEGIN:VEVENT
DTSTART;TZID=Europe/Paris:20230705T190000
DTEND;TZID=Europe/Paris:20230705T190000
DTSTAMP:20260423T114354
CREATED:20230331T081028Z
LAST-MODIFIED:20230621T151112Z
UID:8682-1688583600-1688583600@www.louvignedebais.fr
SUMMARY:Fête de la Musique
DESCRIPTION:Organisée conjointement par le bar « La Rozell » et Christian GOUJON\, professeur de musique. \nRestauration possible sur place \nRenseignement au 02.99.49.00.61 (Bar la Rozell)
URL:https://www.louvignedebais.fr/agenda/fete-de-la-musique-2/
LOCATION:Terrasse de La Rozell\, place de l'église\, LOUVIGNE DE BAIS\, 35680
END:VEVENT
BEGIN:VEVENT
DTSTART;TZID=Europe/Paris:20230711T140000
DTEND;TZID=Europe/Paris:20230711T170000
DTSTAMP:20260423T114354
CREATED:20230331T083705Z
LAST-MODIFIED:20230331T083705Z
UID:8684-1689084000-1689094800@www.louvignedebais.fr
SUMMARY:stages de modelage pour les enfants
DESCRIPTION:Organisés par l’Atelier d’Arts Plastiques\n3 stages d’une demi-journée (chaque stage est indépendant) autour de la création à partir de l’argile.\nChaque enfant réalise son ou ses objets selon ses choix\, ses envies\, ses capacités. \nL’animatrice artistique (enseignante diplômée en arts plastiques) accompagnera chaque enfant selon son niveau. \nles stages sont donc ouverts aux débutants comme aux enfants ayant déjà une expérience dans le modelage. \nChaque journée est indépendante \, un enfant eut participer à 1\, 2 ou 3 journées. \nNombre d’enfants : de 7 à 10 . \nil n’y aura pas de stage si le nombre est inférieur à 7 \ninscriptions souhaitées avant le 15 mai
URL:https://www.louvignedebais.fr/agenda/stages-de-modelage-pour-les-enfants/
LOCATION:Espace Culturel\, rue Mme de Sévigné
END:VEVENT
BEGIN:VEVENT
DTSTART;TZID=Europe/Paris:20230711T190000
DTEND;TZID=Europe/Paris:20230711T230000
DTSTAMP:20260423T114354
CREATED:20221123T102017Z
LAST-MODIFIED:20230710T185712Z
UID:8380-1689102000-1689116400@www.louvignedebais.fr
SUMMARY:Conseil Municipal
DESCRIPTION:Ordre du jour de la séance du 11/07/2023
URL:https://www.louvignedebais.fr/agenda/conseil-municipal-13/
LOCATION:Salle Intermède\, rue des Diligences\, Louvigné-de-Bais
END:VEVENT
BEGIN:VEVENT
DTSTART;TZID=Europe/Paris:20230712T140000
DTEND;TZID=Europe/Paris:20230712T170000
DTSTAMP:20260423T114354
CREATED:20230331T085606Z
LAST-MODIFIED:20230331T085606Z
UID:8687-1689170400-1689181200@www.louvignedebais.fr
SUMMARY:Stages de modelage pour les enfants
DESCRIPTION:Organisés par l’Atelier d’Arts Plastiques\n3 stages d’une demi-journée (chaque stage est indépendant) autour de la création à partir de l’argile.\nChaque enfant réalise son ou ses objets selon ses choix\, ses envies\, ses capacités. \nL’animatrice artistique (enseignante diplômée en arts plastiques) accompagnera chaque enfant selon son niveau. \nles stages sont donc ouverts aux débutants comme aux enfants ayant déjà une expérience dans le modelage. \nChaque journée est indépendante \, un enfant eut participer à 1\, 2 ou 3 journées. \nNombre d’enfants : de 7 à 10 . \nil n’y aura pas de stage si le nombre est inférieur à 7 \ninscriptions souhaitées avant le 15 mai
URL:https://www.louvignedebais.fr/agenda/stages-de-modelage-pour-les-enfants-2/
LOCATION:Espace Culturel\, rue Mme de Sévigné
END:VEVENT
BEGIN:VEVENT
DTSTART;TZID=Europe/Paris:20230713T140000
DTEND;TZID=Europe/Paris:20230713T170000
DTSTAMP:20260423T114354
CREATED:20230331T085742Z
LAST-MODIFIED:20230331T085809Z
UID:8689-1689256800-1689267600@www.louvignedebais.fr
SUMMARY:Stages de modelage pour les enfants
DESCRIPTION:Organisés par l’Atelier d’Arts Plastiques\n3 stages d’une demi-journée (chaque stage est indépendant) autour de la création à partir de l’argile.\nChaque enfant réalise son ou ses objets selon ses choix\, ses envies\, ses capacités. \nL’animatrice artistique (enseignante diplômée en arts plastiques) accompagnera chaque enfant selon son niveau. \nles stages sont donc ouverts aux débutants comme aux enfants ayant déjà une expérience dans le modelage. \nChaque journée est indépendante \, un enfant eut participer à 1\, 2 ou 3 journées. \nNombre d’enfants : de 7 à 10 . \nil n’y aura pas de stage si le nombre est inférieur à 7 \ninscriptions souhaitées avant le 15 mai
URL:https://www.louvignedebais.fr/agenda/stages-de-modelage-pour-les-enfants-3/
LOCATION:Espace Culturel\, rue Mme de Sévigné
END:VEVENT
BEGIN:VEVENT
DTSTART;VALUE=DATE:20230727
DTEND;VALUE=DATE:20230728
DTSTAMP:20260423T114354
CREATED:20221123T152646Z
LAST-MODIFIED:20221123T152646Z
UID:8414-1690416000-1690502399@www.louvignedebais.fr
SUMMARY:Journée détente
DESCRIPTION:
URL:https://www.louvignedebais.fr/agenda/journee-detente-2/
LOCATION:Salle Intermède\, rue des Diligences\, Louvigné-de-Bais
END:VEVENT
END:VCALENDAR