BEGIN:VCALENDAR
VERSION:2.0
PRODID:-//Louvigné-de-Bais - ECPv6.15.20//NONSGML v1.0//EN
CALSCALE:GREGORIAN
METHOD:PUBLISH
X-WR-CALNAME:Louvigné-de-Bais
X-ORIGINAL-URL:https://www.louvignedebais.fr
X-WR-CALDESC:Évènements pour Louvigné-de-Bais
REFRESH-INTERVAL;VALUE=DURATION:PT1H
X-Robots-Tag:noindex
X-PUBLISHED-TTL:PT1H
BEGIN:VTIMEZONE
TZID:Europe/Paris
BEGIN:DAYLIGHT
TZOFFSETFROM:+0100
TZOFFSETTO:+0200
TZNAME:CEST
DTSTART:20220327T010000
END:DAYLIGHT
BEGIN:STANDARD
TZOFFSETFROM:+0200
TZOFFSETTO:+0100
TZNAME:CET
DTSTART:20221030T010000
END:STANDARD
BEGIN:DAYLIGHT
TZOFFSETFROM:+0100
TZOFFSETTO:+0200
TZNAME:CEST
DTSTART:20230326T010000
END:DAYLIGHT
BEGIN:STANDARD
TZOFFSETFROM:+0200
TZOFFSETTO:+0100
TZNAME:CET
DTSTART:20231029T010000
END:STANDARD
BEGIN:DAYLIGHT
TZOFFSETFROM:+0100
TZOFFSETTO:+0200
TZNAME:CEST
DTSTART:20240331T010000
END:DAYLIGHT
BEGIN:STANDARD
TZOFFSETFROM:+0200
TZOFFSETTO:+0100
TZNAME:CET
DTSTART:20241027T010000
END:STANDARD
END:VTIMEZONE
BEGIN:VEVENT
DTSTART;VALUE=DATE:20230603
DTEND;VALUE=DATE:20230605
DTSTAMP:20260423T125828
CREATED:20221123T151023Z
LAST-MODIFIED:20230531T080655Z
UID:8405-1685750400-1685923199@www.louvignedebais.fr
SUMMARY:Spectacle - Cabaret du Coeur
DESCRIPTION:Affiche_Cabaret_2023 au format PDF
URL:https://www.louvignedebais.fr/agenda/spectacle-cabaret-du-coeur-2/
LOCATION:Salle Intermède\, rue des Diligences\, Louvigné-de-Bais
END:VEVENT
BEGIN:VEVENT
DTSTART;TZID=Europe/Paris:20230610T190000
DTEND;TZID=Europe/Paris:20230610T230000
DTSTAMP:20260423T125828
CREATED:20230331T074937Z
LAST-MODIFIED:20230331T074937Z
UID:8678-1686423600-1686438000@www.louvignedebais.fr
SUMMARY:Concert du Groupe ESOLT
DESCRIPTION:Concert organisé par le Bar »La Rozell »\nrestauration possible sur place
URL:https://www.louvignedebais.fr/agenda/concert-du-groupe-esolt/
LOCATION:Terrasse de La Rozell\, place de l'église\, LOUVIGNE DE BAIS\, 35680
END:VEVENT
BEGIN:VEVENT
DTSTART;TZID=Europe/Paris:20230613T190000
DTEND;TZID=Europe/Paris:20230613T230000
DTSTAMP:20260423T125828
CREATED:20221123T101929Z
LAST-MODIFIED:20221123T101929Z
UID:8379-1686682800-1686697200@www.louvignedebais.fr
SUMMARY:Conseil Municipal
DESCRIPTION:
URL:https://www.louvignedebais.fr/agenda/conseil-municipal-12/
LOCATION:Salle Intermède\, rue des Diligences\, Louvigné-de-Bais
END:VEVENT
BEGIN:VEVENT
DTSTART;TZID=Europe/Paris:20230621T120000
DTEND;TZID=Europe/Paris:20230621T133000
DTSTAMP:20260423T125828
CREATED:20221123T100256Z
LAST-MODIFIED:20221123T110047Z
UID:8372-1687348800-1687354200@www.louvignedebais.fr
SUMMARY:Repas mensuel des Retraités
DESCRIPTION:Animation ouverte à tous les retraités de Louvigné-de-Bais  sans condition d’âge. Elle est proposée au tarif de 5.20 €. \nn’oubliez pas de vous inscrire avant le lundi 12 juin 2023
URL:https://www.louvignedebais.fr/agenda/repas-mensuel-des-retraites-4/
END:VEVENT
BEGIN:VEVENT
DTSTART;VALUE=DATE:20230624
DTEND;VALUE=DATE:20230625
DTSTAMP:20260423T125828
CREATED:20221123T151328Z
LAST-MODIFIED:20221123T151328Z
UID:8406-1687564800-1687651199@www.louvignedebais.fr
SUMMARY:Fête de l'école Charles Perrault
DESCRIPTION:
URL:https://www.louvignedebais.fr/agenda/fete-de-lecole-charles-perrault-3/
LOCATION:Salle Intermède\, rue des Diligences\, Louvigné-de-Bais
END:VEVENT
BEGIN:VEVENT
DTSTART;VALUE=DATE:20230625
DTEND;VALUE=DATE:20230627
DTSTAMP:20260423T125828
CREATED:20220527T151905Z
LAST-MODIFIED:20230605T074919Z
UID:6836-1687651200-1687823999@www.louvignedebais.fr
SUMMARY:Kermesse de l'école Saint-Patern
DESCRIPTION:
URL:https://www.louvignedebais.fr/agenda/kermesse-de-lecole-saint-patern/
LOCATION:Salle Intermède\, rue des Diligences\, Louvigné-de-Bais
END:VEVENT
BEGIN:VEVENT
DTSTART;TZID=Europe/Paris:20230629T183000
DTEND;TZID=Europe/Paris:20230629T203000
DTSTAMP:20260423T125828
CREATED:20160621T193731Z
LAST-MODIFIED:20230621T151028Z
UID:3861-1688063400-1688070600@www.louvignedebais.fr
SUMMARY:Vernissage de l'atelier d'arts pastiques
DESCRIPTION:
URL:https://www.louvignedebais.fr/agenda/vernissage-de-latelier-darts-pastiques/
LOCATION:Espace Culturel\, rue Mme de Sévigné
END:VEVENT
END:VCALENDAR