BEGIN:VCALENDAR
VERSION:2.0
PRODID:-//Louvigné-de-Bais - ECPv6.15.20//NONSGML v1.0//EN
CALSCALE:GREGORIAN
METHOD:PUBLISH
X-ORIGINAL-URL:https://www.louvignedebais.fr
X-WR-CALDESC:Évènements pour Louvigné-de-Bais
REFRESH-INTERVAL;VALUE=DURATION:PT1H
X-Robots-Tag:noindex
X-PUBLISHED-TTL:PT1H
BEGIN:VTIMEZONE
TZID:Europe/Paris
BEGIN:DAYLIGHT
TZOFFSETFROM:+0100
TZOFFSETTO:+0200
TZNAME:CEST
DTSTART:20220327T010000
END:DAYLIGHT
BEGIN:STANDARD
TZOFFSETFROM:+0200
TZOFFSETTO:+0100
TZNAME:CET
DTSTART:20221030T010000
END:STANDARD
BEGIN:DAYLIGHT
TZOFFSETFROM:+0100
TZOFFSETTO:+0200
TZNAME:CEST
DTSTART:20230326T010000
END:DAYLIGHT
BEGIN:STANDARD
TZOFFSETFROM:+0200
TZOFFSETTO:+0100
TZNAME:CET
DTSTART:20231029T010000
END:STANDARD
BEGIN:DAYLIGHT
TZOFFSETFROM:+0100
TZOFFSETTO:+0200
TZNAME:CEST
DTSTART:20240331T010000
END:DAYLIGHT
BEGIN:STANDARD
TZOFFSETFROM:+0200
TZOFFSETTO:+0100
TZNAME:CET
DTSTART:20241027T010000
END:STANDARD
END:VTIMEZONE
BEGIN:VEVENT
DTSTART;TZID=Europe/Paris:20230411T190000
DTEND;TZID=Europe/Paris:20230411T230000
DTSTAMP:20260423T154838
CREATED:20221123T101810Z
LAST-MODIFIED:20230406T143259Z
UID:8377-1681239600-1681254000@www.louvignedebais.fr
SUMMARY:Conseil Municipal
DESCRIPTION:convocation 11.04.2023
URL:https://www.louvignedebais.fr/agenda/conseil-municipal-10/
LOCATION:Salle Intermède\, rue des Diligences\, Louvigné-de-Bais
END:VEVENT
BEGIN:VEVENT
DTSTART;VALUE=DATE:20230421
DTEND;VALUE=DATE:20230423
DTSTAMP:20260423T154838
CREATED:20221123T152127Z
LAST-MODIFIED:20230330T135658Z
UID:8410-1682035200-1682207999@www.louvignedebais.fr
SUMMARY:Tournoi de Volley
DESCRIPTION:
URL:https://www.louvignedebais.fr/agenda/tournoi-de-volley-3/
LOCATION:Salle des sports\, Rue Anne de Bretagne\, Louvigné de Bais
END:VEVENT
BEGIN:VEVENT
DTSTART;TZID=Europe/Paris:20230428T193000
DTEND;TZID=Europe/Paris:20230428T223000
DTSTAMP:20260423T154838
CREATED:20230331T135651Z
LAST-MODIFIED:20230331T140701Z
UID:8699-1682710200-1682721000@www.louvignedebais.fr
SUMMARY:Soirée Karaoké
DESCRIPTION:L’association Com’Êtes organise une soirée karaoké le vendredi 28 avril à la salle Intermède à partir de 19h30.\nVenez chanter accompagné par le grand orchestre du Mont Kulala !\nPour chanter\, vous devez vous inscrire et sélectionner le titre à interpréter parmi la liste proposée.\nPour vous restaurer pendant le spectacle\, des assiettes dinatoires sont proposées au tarif de 8€ (sur réservation uniquement). Un bar sera également mis à votre disposition pour agrémenter votre soirée.\nLes inscriptions (karaoké) et réservations (assiettes dinatoires) se font jusqu’au 18 avril par téléphone au 06 11 56 92 43 ou lors des permanences à la salle Beau Soleil (Louvigné-de-Bais) les samedis 8 et 15 avril de 10h à 12h.\n\nEntrée gratuite\n\nPour plus d’information vous pouvez consulter la page Facebook de Com’Ëtes
URL:https://www.louvignedebais.fr/agenda/soiree-karaoke/
LOCATION:Salle Intermède\, rue des Diligences\, Louvigné-de-Bais
END:VEVENT
END:VCALENDAR