BEGIN:VCALENDAR
VERSION:2.0
PRODID:-//Louvigné-de-Bais - ECPv6.15.20//NONSGML v1.0//EN
CALSCALE:GREGORIAN
METHOD:PUBLISH
X-WR-CALNAME:Louvigné-de-Bais
X-ORIGINAL-URL:https://www.louvignedebais.fr
X-WR-CALDESC:Évènements pour Louvigné-de-Bais
REFRESH-INTERVAL;VALUE=DURATION:PT1H
X-Robots-Tag:noindex
X-PUBLISHED-TTL:PT1H
BEGIN:VTIMEZONE
TZID:Europe/Paris
BEGIN:DAYLIGHT
TZOFFSETFROM:+0100
TZOFFSETTO:+0200
TZNAME:CEST
DTSTART:20210328T010000
END:DAYLIGHT
BEGIN:STANDARD
TZOFFSETFROM:+0200
TZOFFSETTO:+0100
TZNAME:CET
DTSTART:20211031T010000
END:STANDARD
BEGIN:DAYLIGHT
TZOFFSETFROM:+0100
TZOFFSETTO:+0200
TZNAME:CEST
DTSTART:20220327T010000
END:DAYLIGHT
BEGIN:STANDARD
TZOFFSETFROM:+0200
TZOFFSETTO:+0100
TZNAME:CET
DTSTART:20221030T010000
END:STANDARD
BEGIN:DAYLIGHT
TZOFFSETFROM:+0100
TZOFFSETTO:+0200
TZNAME:CEST
DTSTART:20230326T010000
END:DAYLIGHT
BEGIN:STANDARD
TZOFFSETFROM:+0200
TZOFFSETTO:+0100
TZNAME:CET
DTSTART:20231029T010000
END:STANDARD
END:VTIMEZONE
BEGIN:VEVENT
DTSTART;VALUE=DATE:20221203
DTEND;VALUE=DATE:20221204
DTSTAMP:20260423T212108
CREATED:20221123T154016Z
LAST-MODIFIED:20221123T154016Z
UID:8426-1670025600-1670111999@www.louvignedebais.fr
SUMMARY:Sainte Barbe
DESCRIPTION:
URL:https://www.louvignedebais.fr/agenda/sainte-barbe-2/
LOCATION:Salle Intermède\, rue des Diligences\, Louvigné-de-Bais
END:VEVENT
BEGIN:VEVENT
DTSTART;TZID=Europe/Paris:20221206T190000
DTEND;TZID=Europe/Paris:20221206T220000
DTSTAMP:20260423T212108
CREATED:20221123T101319Z
LAST-MODIFIED:20221202T100539Z
UID:8373-1670353200-1670364000@www.louvignedebais.fr
SUMMARY:Conseil Municipal
DESCRIPTION:convocation conseil municipal 6.12.22
URL:https://www.louvignedebais.fr/agenda/conseil-municipal-6/
LOCATION:Salle Intermède\, rue des Diligences\, Louvigné-de-Bais
END:VEVENT
BEGIN:VEVENT
DTSTART;TZID=Europe/Paris:20221207T103000
DTEND;TZID=Europe/Paris:20221207T120000
DTSTAMP:20260423T212108
CREATED:20221129T150255Z
LAST-MODIFIED:20221129T151238Z
UID:8447-1670409000-1670414400@www.louvignedebais.fr
SUMMARY:Marche écolo
DESCRIPTION:Ramassage des déchets \n  \nrendez-vous  est donné à 10 h 30 place de la mairie \nle matériel (pinces\, sacs poubelles\, gants…) est mis à disposition par la commune \n 
URL:https://www.louvignedebais.fr/agenda/marche-ecolo/
LOCATION:le bourg de Louvigné de Bais
END:VEVENT
BEGIN:VEVENT
DTSTART;VALUE=DATE:20221210
DTEND;VALUE=DATE:20221211
DTSTAMP:20260423T212108
CREATED:20221013T114014Z
LAST-MODIFIED:20221123T144724Z
UID:8292-1670630400-1670716799@www.louvignedebais.fr
SUMMARY:feu d'artifice
DESCRIPTION:
URL:https://www.louvignedebais.fr/agenda/feu-dartifice/
LOCATION:le bourg de Louvigné de Bais
END:VEVENT
BEGIN:VEVENT
DTSTART;VALUE=DATE:20221211
DTEND;VALUE=DATE:20221212
DTSTAMP:20260423T212108
CREATED:20220613T123444Z
LAST-MODIFIED:20221123T143701Z
UID:7088-1670716800-1670803199@www.louvignedebais.fr
SUMMARY:Marché de Noël
DESCRIPTION:        
URL:https://www.louvignedebais.fr/agenda/marche-de-noel-2/
LOCATION:Salle Intermède\, rue des Diligences\, Louvigné-de-Bais
END:VEVENT
BEGIN:VEVENT
DTSTART;VALUE=DATE:20221217
DTEND;VALUE=DATE:20221218
DTSTAMP:20260423T212108
CREATED:20221013T114405Z
LAST-MODIFIED:20221013T114405Z
UID:8293-1671235200-1671321599@www.louvignedebais.fr
SUMMARY:Loto
DESCRIPTION:
URL:https://www.louvignedebais.fr/agenda/loto/
LOCATION:Salle Intermède\, rue des Diligences\, Louvigné-de-Bais
END:VEVENT
BEGIN:VEVENT
DTSTART;TZID=Europe/Paris:20221221T140000
DTEND;TZID=Europe/Paris:20221221T160000
DTSTAMP:20260423T212108
CREATED:20221129T150500Z
LAST-MODIFIED:20221129T152823Z
UID:8448-1671631200-1671638400@www.louvignedebais.fr
SUMMARY:après-midi Jeux intergénérationnel
DESCRIPTION:organisé par le Conseil Municipal des Enfants en lien avec le Centre de Loisirs et la section animation de la villa bleue. \ncette animation est ouverte à tous . N’hésitez-pas à vous munir de vos jeux de société d’hier et d’aujourd’hui pour les faire découvrir aux autres participants \nl’après-midi se terminera par un gouter collectif
URL:https://www.louvignedebais.fr/agenda/apres-midi-jeux-intergenerationnel/
LOCATION:Salle du Club\, chemin des Diligences\, Louvigné-de-Bais\, France
END:VEVENT
END:VCALENDAR