BEGIN:VCALENDAR
VERSION:2.0
PRODID:-//Louvigné-de-Bais - ECPv6.15.20//NONSGML v1.0//EN
CALSCALE:GREGORIAN
METHOD:PUBLISH
X-ORIGINAL-URL:https://www.louvignedebais.fr
X-WR-CALDESC:Évènements pour Louvigné-de-Bais
REFRESH-INTERVAL;VALUE=DURATION:PT1H
X-Robots-Tag:noindex
X-PUBLISHED-TTL:PT1H
BEGIN:VTIMEZONE
TZID:Europe/Paris
BEGIN:DAYLIGHT
TZOFFSETFROM:+0100
TZOFFSETTO:+0200
TZNAME:CEST
DTSTART:20210328T010000
END:DAYLIGHT
BEGIN:STANDARD
TZOFFSETFROM:+0200
TZOFFSETTO:+0100
TZNAME:CET
DTSTART:20211031T010000
END:STANDARD
BEGIN:DAYLIGHT
TZOFFSETFROM:+0100
TZOFFSETTO:+0200
TZNAME:CEST
DTSTART:20220327T010000
END:DAYLIGHT
BEGIN:STANDARD
TZOFFSETFROM:+0200
TZOFFSETTO:+0100
TZNAME:CET
DTSTART:20221030T010000
END:STANDARD
BEGIN:DAYLIGHT
TZOFFSETFROM:+0100
TZOFFSETTO:+0200
TZNAME:CEST
DTSTART:20230326T010000
END:DAYLIGHT
BEGIN:STANDARD
TZOFFSETFROM:+0200
TZOFFSETTO:+0100
TZNAME:CET
DTSTART:20231029T010000
END:STANDARD
END:VTIMEZONE
BEGIN:VEVENT
DTSTART;TZID=Europe/Paris:20221002T080000
DTEND;TZID=Europe/Paris:20221002T170000
DTSTAMP:20260424T002327
CREATED:20220913T150540Z
LAST-MODIFIED:20220922T152252Z
UID:8242-1664697600-1664730000@www.louvignedebais.fr
SUMMARY:Journée sportive
DESCRIPTION: 
URL:https://www.louvignedebais.fr/agenda/journee-sportive/
LOCATION:Espace Détente
END:VEVENT
BEGIN:VEVENT
DTSTART;VALUE=DATE:20221006
DTEND;VALUE=DATE:20221007
DTSTAMP:20260424T002327
CREATED:20220613T123952Z
LAST-MODIFIED:20220613T124018Z
UID:7089-1665014400-1665100799@www.louvignedebais.fr
SUMMARY:Gai savoir - club amitié et loisirs
DESCRIPTION:
URL:https://www.louvignedebais.fr/agenda/gai-savoir-club-amitie-et-loisirs/
LOCATION:Salle Intermède\, rue des Diligences\, Louvigné-de-Bais
END:VEVENT
BEGIN:VEVENT
DTSTART;VALUE=DATE:20221008
DTEND;VALUE=DATE:20221009
DTSTAMP:20260424T002327
CREATED:20220906T083936Z
LAST-MODIFIED:20220906T083936Z
UID:8236-1665187200-1665273599@www.louvignedebais.fr
SUMMARY:Classes 0 et 2
DESCRIPTION:Télécharger l’affiche de l’évènement
URL:https://www.louvignedebais.fr/agenda/classes-0-et-2/
LOCATION:Salle Intermède\, rue des Diligences\, Louvigné-de-Bais
END:VEVENT
BEGIN:VEVENT
DTSTART;VALUE=DATE:20221014
DTEND;VALUE=DATE:20221015
DTSTAMP:20260424T002327
CREATED:20220311T165800Z
LAST-MODIFIED:20221012T142612Z
UID:6737-1665705600-1665791999@www.louvignedebais.fr
SUMMARY:Concours de belote - Club amitié et loisirs
DESCRIPTION:Vendredi 14 octobre 2022 à 13h30 à la Salle Intermède \n9 euros par équipe
URL:https://www.louvignedebais.fr/agenda/concours-de-belote-club-amitie-et-loisirs/
LOCATION:Salle Intermède\, rue des Diligences\, Louvigné-de-Bais
ATTACH;FMTTYPE=image/png:https://www.louvignedebais.fr/wp-content/uploads/2016/02/logo_générations_mouvement.png
END:VEVENT
BEGIN:VEVENT
DTSTART;TZID=Europe/Paris:20221022T123000
DTEND;TZID=Europe/Paris:20221022T180000
DTSTAMP:20260424T002327
CREATED:20221013T112710Z
LAST-MODIFIED:20221013T112710Z
UID:8289-1666441800-1666461600@www.louvignedebais.fr
SUMMARY:repas des Ainés
DESCRIPTION:
URL:https://www.louvignedebais.fr/agenda/repas-des-aines/
LOCATION:Salle Intermède\, rue des Diligences\, Louvigné-de-Bais
END:VEVENT
END:VCALENDAR