BEGIN:VCALENDAR
VERSION:2.0
PRODID:-//Louvigné-de-Bais - ECPv6.15.20//NONSGML v1.0//EN
CALSCALE:GREGORIAN
METHOD:PUBLISH
X-WR-CALNAME:Louvigné-de-Bais
X-ORIGINAL-URL:https://www.louvignedebais.fr
X-WR-CALDESC:Évènements pour Louvigné-de-Bais
REFRESH-INTERVAL;VALUE=DURATION:PT1H
X-Robots-Tag:noindex
X-PUBLISHED-TTL:PT1H
BEGIN:VTIMEZONE
TZID:Europe/Paris
BEGIN:DAYLIGHT
TZOFFSETFROM:+0100
TZOFFSETTO:+0200
TZNAME:CEST
DTSTART:20210328T010000
END:DAYLIGHT
BEGIN:STANDARD
TZOFFSETFROM:+0200
TZOFFSETTO:+0100
TZNAME:CET
DTSTART:20211031T010000
END:STANDARD
BEGIN:DAYLIGHT
TZOFFSETFROM:+0100
TZOFFSETTO:+0200
TZNAME:CEST
DTSTART:20220327T010000
END:DAYLIGHT
BEGIN:STANDARD
TZOFFSETFROM:+0200
TZOFFSETTO:+0100
TZNAME:CET
DTSTART:20221030T010000
END:STANDARD
BEGIN:DAYLIGHT
TZOFFSETFROM:+0100
TZOFFSETTO:+0200
TZNAME:CEST
DTSTART:20230326T010000
END:DAYLIGHT
BEGIN:STANDARD
TZOFFSETFROM:+0200
TZOFFSETTO:+0100
TZNAME:CET
DTSTART:20231029T010000
END:STANDARD
END:VTIMEZONE
BEGIN:VEVENT
DTSTART;TZID=Europe/Paris:20220501T080000
DTEND;TZID=Europe/Paris:20220501T170000
DTSTAMP:20260424T071524
CREATED:20220311T170808Z
LAST-MODIFIED:20220311T171905Z
UID:6741-1651392000-1651424400@www.louvignedebais.fr
SUMMARY:Loto Stade Louvignéen FC
DESCRIPTION:
URL:https://www.louvignedebais.fr/agenda/loto-stade-louvigneen-fc/
LOCATION:Salle des sports\, Rue Anne de Bretagne\, Louvigné de Bais
END:VEVENT
BEGIN:VEVENT
DTSTART;VALUE=DATE:20220505
DTEND;VALUE=DATE:20220506
DTSTAMP:20260424T071524
CREATED:20220311T171834Z
LAST-MODIFIED:20220311T171834Z
UID:6742-1651708800-1651795199@www.louvignedebais.fr
SUMMARY:Buffet campagnard du Club amitié et loisirs
DESCRIPTION:
URL:https://www.louvignedebais.fr/agenda/buffet-campagnard-du-club-amitie-et-loisirs/
LOCATION:Salle Intermède\, rue des Diligences\, Louvigné-de-Bais
END:VEVENT
BEGIN:VEVENT
DTSTART;VALUE=DATE:20220514
DTEND;VALUE=DATE:20220515
DTSTAMP:20260424T071524
CREATED:20220421T093316Z
LAST-MODIFIED:20220421T093502Z
UID:6768-1652486400-1652572799@www.louvignedebais.fr
SUMMARY:Théâtre "l’Équation"
DESCRIPTION:L’ÉQUATION\n Une comédie de Jean-Paul le Guenic \n  Après plus de 2 années d’absence de la scène\, La troupe cessonnaise KiFéKoi remonte sur les planches avec une comédie de Jean-Paul Le Guénic : L’Équation. \n  L’ÉQUATION est une comédie… ou plutôt une conférence… ou plutôt une comédie qui met en scène 1 conférencier et ses assistants.  \nIls et elle sont burlesques mais se prennent\, hélas\, au sérieux.  \nLe sujet du jour : Sauver le régime d’assurance chômage des intermittents du spectacle\, qui affiche un déficit financier chronique\, en proposant d’indemniser uniquement les comédiens qui ont du talent. L’idée est simple et pratique\, mais à une condition : que l’on sache définir précisément le talent pour identifier celles et ceux qui en ont suffisamment. Or le talent c’est comme l’art\, ça dépend de qui regarde.   Alors ? Et si le talent était une équation mathématique ? \n La pièce est une alternance de tableaux entre des moments de conférence (fil rouge de la pièce) et des moments d’illustration de chaque variable de l’équation proposée par les trois conférenciers et ce\, jusqu’à l’audition finale de deux comédiens à qui sera appliquée l’équation du talent. \n  \nSamedi 14 mai à 20h\, \nSalle intermède – Louvigné de Bais. \nEntrée : 7€  (gratuit – 12 ans)
URL:https://www.louvignedebais.fr/agenda/theatre-lequation/
LOCATION:Salle Intermède\, rue des Diligences\, Louvigné-de-Bais
END:VEVENT
BEGIN:VEVENT
DTSTART;VALUE=DATE:20220514
DTEND;VALUE=DATE:20220516
DTSTAMP:20260424T071524
CREATED:20220311T172047Z
LAST-MODIFIED:20220509T120452Z
UID:6743-1652486400-1652659199@www.louvignedebais.fr
SUMMARY:Tournoi de palets
DESCRIPTION:
URL:https://www.louvignedebais.fr/agenda/tournoi-de-palets/
LOCATION:Espace Détente
END:VEVENT
BEGIN:VEVENT
DTSTART;VALUE=DATE:20220521
DTEND;VALUE=DATE:20220523
DTSTAMP:20260424T071524
CREATED:20220311T172427Z
LAST-MODIFIED:20220516T131621Z
UID:6744-1653091200-1653263999@www.louvignedebais.fr
SUMMARY:Spectacle du Cabaret du cœur
DESCRIPTION:Téléchargez l’affiche
URL:https://www.louvignedebais.fr/agenda/spectacle-du-cabaret-du-coeur/
LOCATION:Salle Intermède\, rue des Diligences\, Louvigné-de-Bais
ATTACH;FMTTYPE=image/png:https://www.louvignedebais.fr/wp-content/uploads/2016/02/Logo_Cabaret_du_Choeur.png
END:VEVENT
END:VCALENDAR