BEGIN:VCALENDAR
VERSION:2.0
PRODID:-//Louvigné-de-Bais - ECPv6.15.20//NONSGML v1.0//EN
CALSCALE:GREGORIAN
METHOD:PUBLISH
X-ORIGINAL-URL:https://www.louvignedebais.fr
X-WR-CALDESC:Évènements pour Louvigné-de-Bais
REFRESH-INTERVAL;VALUE=DURATION:PT1H
X-Robots-Tag:noindex
X-PUBLISHED-TTL:PT1H
BEGIN:VTIMEZONE
TZID:Europe/Paris
BEGIN:DAYLIGHT
TZOFFSETFROM:+0100
TZOFFSETTO:+0200
TZNAME:CEST
DTSTART:20240331T010000
END:DAYLIGHT
BEGIN:STANDARD
TZOFFSETFROM:+0200
TZOFFSETTO:+0100
TZNAME:CET
DTSTART:20241027T010000
END:STANDARD
BEGIN:DAYLIGHT
TZOFFSETFROM:+0100
TZOFFSETTO:+0200
TZNAME:CEST
DTSTART:20250330T010000
END:DAYLIGHT
BEGIN:STANDARD
TZOFFSETFROM:+0200
TZOFFSETTO:+0100
TZNAME:CET
DTSTART:20251026T010000
END:STANDARD
BEGIN:DAYLIGHT
TZOFFSETFROM:+0100
TZOFFSETTO:+0200
TZNAME:CEST
DTSTART:20260329T010000
END:DAYLIGHT
BEGIN:STANDARD
TZOFFSETFROM:+0200
TZOFFSETTO:+0100
TZNAME:CET
DTSTART:20261025T010000
END:STANDARD
BEGIN:DAYLIGHT
TZOFFSETFROM:+0100
TZOFFSETTO:+0200
TZNAME:CEST
DTSTART:20270328T010000
END:DAYLIGHT
BEGIN:STANDARD
TZOFFSETFROM:+0200
TZOFFSETTO:+0100
TZNAME:CET
DTSTART:20271031T010000
END:STANDARD
END:VTIMEZONE
BEGIN:VEVENT
DTSTART;TZID=Europe/Paris:20260410T140000
DTEND;TZID=Europe/Paris:20260410T180000
DTSTAMP:20260421T201151
CREATED:20260310T125109Z
LAST-MODIFIED:20260310T132023Z
UID:16492-1775829600-1775844000@www.louvignedebais.fr
SUMMARY:Belote du territoire
DESCRIPTION:
URL:https://www.louvignedebais.fr/agenda/belote-du-territoire/
LOCATION:Salle Intermède\, rue des Diligences\, Louvigné-de-Bais
END:VEVENT
BEGIN:VEVENT
DTSTART;TZID=Europe/Paris:20260330T190000
DTEND;TZID=Europe/Paris:20260330T210000
DTSTAMP:20260421T201151
CREATED:20260324T120753Z
LAST-MODIFIED:20260324T120753Z
UID:16619-1774897200-1774904400@www.louvignedebais.fr
SUMMARY:Conseil municipal
DESCRIPTION:Convocation et ordre du jour de la séance du 30 mars 2026
URL:https://www.louvignedebais.fr/agenda/conseil-municipal-41/
LOCATION:Salle Intermède\, rue des Diligences\, Louvigné-de-Bais
END:VEVENT
BEGIN:VEVENT
DTSTART;TZID=Europe/Paris:20260329T080000
DTEND;TZID=Europe/Paris:20260329T170000
DTSTAMP:20260421T201151
CREATED:20251222T103526Z
LAST-MODIFIED:20260217T100623Z
UID:15798-1774771200-1774803600@www.louvignedebais.fr
SUMMARY:Vide-greniers
DESCRIPTION:
URL:https://www.louvignedebais.fr/agenda/vide-greniers-3/
LOCATION:Espace Intermède
ATTACH;FMTTYPE=image/jpeg:https://www.louvignedebais.fr/wp-content/uploads/2026/02/03.29-Affiche-Vide-ton-grenier-2026.jpg
END:VEVENT
BEGIN:VEVENT
DTSTART;TZID=Europe/Paris:20260321T100000
DTEND;TZID=Europe/Paris:20260321T120000
DTSTAMP:20260421T201151
CREATED:20260217T101025Z
LAST-MODIFIED:20260217T101025Z
UID:16328-1774087200-1774094400@www.louvignedebais.fr
SUMMARY:Portes Ouvertes École Saint Patern
DESCRIPTION:
URL:https://www.louvignedebais.fr/agenda/portes-ouvertes-ecole-saint-patern-2/
LOCATION:Ecole Saint-Patern\, 9 rue Anne de Bretagne\, Louvigné-de-Bais\, 35680
ATTACH;FMTTYPE=image/jpeg:https://www.louvignedebais.fr/wp-content/uploads/2026/02/03.26-Affiche-PO-St-Patern_page-0001.jpg
END:VEVENT
BEGIN:VEVENT
DTSTART;TZID=Europe/Paris:20260320T183000
DTEND;TZID=Europe/Paris:20260320T200000
DTSTAMP:20260421T201151
CREATED:20260316T131904Z
LAST-MODIFIED:20260324T150831Z
UID:16539-1774031400-1774036800@www.louvignedebais.fr
SUMMARY:Conseil municipal
DESCRIPTION:Convocation et ordre du jour de la séance du 20 mars 2026 \nComposition du conseil municipal \nProclamation maire et adjoints
URL:https://www.louvignedebais.fr/agenda/conseil-municipal-40/
LOCATION:Salle Intermède\, rue des Diligences\, Louvigné-de-Bais
END:VEVENT
BEGIN:VEVENT
DTSTART;TZID=Europe/Paris:20260315T080000
DTEND;TZID=Europe/Paris:20260315T180000
DTSTAMP:20260421T201151
CREATED:20251222T102716Z
LAST-MODIFIED:20251222T102716Z
UID:15784-1773561600-1773597600@www.louvignedebais.fr
SUMMARY:Élections municipales
DESCRIPTION:
URL:https://www.louvignedebais.fr/agenda/elections-municipales-2/
LOCATION:Salle Intermède\, rue des Diligences\, Louvigné-de-Bais
END:VEVENT
BEGIN:VEVENT
DTSTART;TZID=Europe/Paris:20260310T190000
DTEND;TZID=Europe/Paris:20260310T210000
DTSTAMP:20260421T201151
CREATED:20251222T102633Z
LAST-MODIFIED:20260305T091302Z
UID:15782-1773169200-1773176400@www.louvignedebais.fr
SUMMARY:Conseil municipal
DESCRIPTION:Convocation et ordre du jour de la séance du 10 mars 2026
URL:https://www.louvignedebais.fr/agenda/conseil-municipal-39/
LOCATION:Salle Intermède\, rue des Diligences\, Louvigné-de-Bais
END:VEVENT
BEGIN:VEVENT
DTSTART;TZID=Europe/Paris:20260307T200000
DTEND;TZID=Europe/Paris:20260307T233000
DTSTAMP:20260421T201151
CREATED:20251222T103359Z
LAST-MODIFIED:20260217T100859Z
UID:15796-1772913600-1772926200@www.louvignedebais.fr
SUMMARY:Soirée quiz intergénérationnel
DESCRIPTION:
URL:https://www.louvignedebais.fr/agenda/soiree-a-theme/
LOCATION:Salle Intermède\, rue des Diligences\, Louvigné-de-Bais
ATTACH;FMTTYPE=image/jpeg:https://www.louvignedebais.fr/wp-content/uploads/2026/02/03.07-Affiche_Quiz_ComEtes_A3_page-0001.jpg
END:VEVENT
BEGIN:VEVENT
DTSTART;TZID=Europe/Paris:20260303T133000
DTEND;TZID=Europe/Paris:20260303T170000
DTSTAMP:20260421T201151
CREATED:20251222T103317Z
LAST-MODIFIED:20251222T103317Z
UID:15794-1772544600-1772557200@www.louvignedebais.fr
SUMMARY:Concours de belote
DESCRIPTION:
URL:https://www.louvignedebais.fr/agenda/concours-de-belote-7/
LOCATION:Salle Intermède\, rue des Diligences\, Louvigné-de-Bais
END:VEVENT
BEGIN:VEVENT
DTSTART;TZID=Europe/Paris:20260221T140000
DTEND;TZID=Europe/Paris:20260221T170000
DTSTAMP:20260421T201151
CREATED:20251222T103205Z
LAST-MODIFIED:20251222T103205Z
UID:15792-1771682400-1771693200@www.louvignedebais.fr
SUMMARY:CCAS - Goûter des aînés
DESCRIPTION:
URL:https://www.louvignedebais.fr/agenda/ccas-gouter-des-aines/
LOCATION:Salle Intermède\, rue des Diligences\, Louvigné-de-Bais
END:VEVENT
BEGIN:VEVENT
DTSTART;TZID=Europe/Paris:20260213T180000
DTEND;TZID=Europe/Paris:20260213T210000
DTSTAMP:20260421T201151
CREATED:20251222T103052Z
LAST-MODIFIED:20251222T103052Z
UID:15790-1771005600-1771016400@www.louvignedebais.fr
SUMMARY:Boum des enfants
DESCRIPTION:
URL:https://www.louvignedebais.fr/agenda/boum-des-enfants-2/
LOCATION:Salle Intermède\, rue des Diligences\, Louvigné-de-Bais
END:VEVENT
BEGIN:VEVENT
DTSTART;TZID=Europe/Paris:20260212T190000
DTEND;TZID=Europe/Paris:20260212T210000
DTSTAMP:20260421T201151
CREATED:20251222T102602Z
LAST-MODIFIED:20260209T165337Z
UID:15780-1770922800-1770930000@www.louvignedebais.fr
SUMMARY:Conseil municipal
DESCRIPTION:Convocation et ordre du jour de la séance du 12 février 2026
URL:https://www.louvignedebais.fr/agenda/conseil-municipal-38/
LOCATION:Salle Intermède\, rue des Diligences\, Louvigné-de-Bais
END:VEVENT
BEGIN:VEVENT
DTSTART;TZID=Europe/Paris:20260207T183000
DTEND;TZID=Europe/Paris:20260207T233000
DTSTAMP:20260421T201151
CREATED:20251222T103001Z
LAST-MODIFIED:20251222T103001Z
UID:15788-1770489000-1770507000@www.louvignedebais.fr
SUMMARY:Soirée du Volley
DESCRIPTION:
URL:https://www.louvignedebais.fr/agenda/soiree-du-volley-2/
LOCATION:Salle Intermède\, rue des Diligences\, Louvigné-de-Bais
END:VEVENT
BEGIN:VEVENT
DTSTART;TZID=Europe/Paris:20260201T120000
DTEND;TZID=Europe/Paris:20260201T180000
DTSTAMP:20260421T201151
CREATED:20251222T102844Z
LAST-MODIFIED:20251222T102844Z
UID:15786-1769947200-1769968800@www.louvignedebais.fr
SUMMARY:Loto
DESCRIPTION:
URL:https://www.louvignedebais.fr/agenda/loto-7/
LOCATION:Salle Intermède\, rue des Diligences\, Louvigné-de-Bais
END:VEVENT
BEGIN:VEVENT
DTSTART;TZID=Europe/Paris:20260113T190000
DTEND;TZID=Europe/Paris:20260113T210000
DTSTAMP:20260421T201151
CREATED:20251220T110139Z
LAST-MODIFIED:20260108T081033Z
UID:15764-1768330800-1768338000@www.louvignedebais.fr
SUMMARY:Conseil municipal
DESCRIPTION:Convocation et ordre du jour de la séance du 13 janvier 2026
URL:https://www.louvignedebais.fr/agenda/conseil-municipal-37/
LOCATION:Salle Intermède\, rue des Diligences\, Louvigné-de-Bais
END:VEVENT
BEGIN:VEVENT
DTSTART;TZID=Europe/Paris:20260109T190000
DTEND;TZID=Europe/Paris:20260109T210000
DTSTAMP:20260421T201151
CREATED:20251220T110022Z
LAST-MODIFIED:20251220T110022Z
UID:15762-1767985200-1767992400@www.louvignedebais.fr
SUMMARY:Cérémonie des vœux
DESCRIPTION:
URL:https://www.louvignedebais.fr/agenda/ceremonie-des-voeux-2/
LOCATION:Salle Intermède\, rue des Diligences\, Louvigné-de-Bais
ATTACH;FMTTYPE=image/png:https://www.louvignedebais.fr/wp-content/uploads/2025/12/Ceremonie-des-voeux-1.png
END:VEVENT
BEGIN:VEVENT
DTSTART;TZID=Europe/Paris:20260103T190000
DTEND;TZID=Europe/Paris:20260103T220000
DTSTAMP:20260421T201151
CREATED:20251220T110343Z
LAST-MODIFIED:20251220T110343Z
UID:15766-1767466800-1767477600@www.louvignedebais.fr
SUMMARY:Tournoi de Futsal
DESCRIPTION:
URL:https://www.louvignedebais.fr/agenda/tournoi-de-futsal/
LOCATION:Salle des sports\, Rue Anne de Bretagne\, Louvigné de Bais
END:VEVENT
BEGIN:VEVENT
DTSTART;TZID=Europe/Paris:20251220T160000
DTEND;TZID=Europe/Paris:20251220T180000
DTSTAMP:20260421T201152
CREATED:20251202T113031Z
LAST-MODIFIED:20251202T113031Z
UID:15633-1766246400-1766253600@www.louvignedebais.fr
SUMMARY:Bal de Noël
DESCRIPTION:Bal de Noël costumé autour du monde
URL:https://www.louvignedebais.fr/agenda/bal-de-noel/
LOCATION:Salle Intermède\, rue des Diligences\, Louvigné-de-Bais
ATTACH;FMTTYPE=image/png:https://www.louvignedebais.fr/wp-content/uploads/2025/12/Spectacle-bibliotheque-noel-2025.png
ORGANIZER;CN="Biblioth%C3%A8que municipale":MAILTO:bibliotheque@louvignedebais.fr
END:VEVENT
BEGIN:VEVENT
DTSTART;TZID=Europe/Paris:20251219T163000
DTEND;TZID=Europe/Paris:20251219T190000
DTSTAMP:20260421T201152
CREATED:20241223T085800Z
LAST-MODIFIED:20251202T112748Z
UID:10368-1766161800-1766170800@www.louvignedebais.fr
SUMMARY:Portes-ouvertes de l’école Saint Patern
DESCRIPTION:
URL:https://www.louvignedebais.fr/agenda/portes-ouvertes-de-lecole-saint-patern-4/
LOCATION:Ecole Saint-Patern\, 9 rue Anne de Bretagne\, Louvigné-de-Bais\, 35680
ATTACH;FMTTYPE=image/jpeg:https://www.louvignedebais.fr/wp-content/uploads/2025/12/12.12-portes-ouvertes-st-patern.jpg
END:VEVENT
BEGIN:VEVENT
DTSTART;TZID=Europe/Paris:20251216T190000
DTEND;TZID=Europe/Paris:20251216T210000
DTSTAMP:20260421T201152
CREATED:20250725T142534Z
LAST-MODIFIED:20251211T161853Z
UID:11716-1765911600-1765918800@www.louvignedebais.fr
SUMMARY:Conseil municipal
DESCRIPTION:Convocation et ordre du jour de la séance du 16 décembre 2025
URL:https://www.louvignedebais.fr/agenda/conseil-municipal-36/
LOCATION:Salle Intermède\, rue des Diligences\, Louvigné-de-Bais
END:VEVENT
BEGIN:VEVENT
DTSTART;TZID=Europe/Paris:20251213T180000
DTEND;TZID=Europe/Paris:20251213T233000
DTSTAMP:20260421T201152
CREATED:20251202T112920Z
LAST-MODIFIED:20251202T112920Z
UID:15631-1765648800-1765668600@www.louvignedebais.fr
SUMMARY:Loto du SLFC
DESCRIPTION:
URL:https://www.louvignedebais.fr/agenda/loto-du-slfc/
LOCATION:Salle Intermède\, rue des Diligences\, Louvigné-de-Bais
ATTACH;FMTTYPE=image/jpeg:https://www.louvignedebais.fr/wp-content/uploads/2025/12/12.13-Loto-SLFC.jpg
END:VEVENT
BEGIN:VEVENT
DTSTART;TZID=Europe/Paris:20251207T100000
DTEND;TZID=Europe/Paris:20251207T180000
DTSTAMP:20260421T201152
CREATED:20251202T112831Z
LAST-MODIFIED:20251202T112831Z
UID:15629-1765101600-1765130400@www.louvignedebais.fr
SUMMARY:Marché de Noël
DESCRIPTION:
URL:https://www.louvignedebais.fr/agenda/marche-de-noel-4/
LOCATION:Salle Intermède\, rue des Diligences\, Louvigné-de-Bais
ATTACH;FMTTYPE=image/jpeg:https://www.louvignedebais.fr/wp-content/uploads/2025/12/12.07-marche-de-noel-cometes.jpg
END:VEVENT
BEGIN:VEVENT
DTSTART;TZID=Europe/Paris:20251206T170000
DTEND;TZID=Europe/Paris:20251206T210000
DTSTAMP:20260421T201152
CREATED:20251119T115906Z
LAST-MODIFIED:20251119T115906Z
UID:15182-1765040400-1765054800@www.louvignedebais.fr
SUMMARY:Animations de fin d'année
DESCRIPTION:
URL:https://www.louvignedebais.fr/agenda/animations-de-fin-dannee-3/
LOCATION:le bourg de Louvigné de Bais
ATTACH;FMTTYPE=image/png:https://www.louvignedebais.fr/wp-content/uploads/2025/11/Affiche-Noel-2025.png
END:VEVENT
BEGIN:VEVENT
DTSTART;TZID=Europe/Paris:20251122T190000
DTEND;TZID=Europe/Paris:20251122T233000
DTSTAMP:20260421T201152
CREATED:20251017T132840Z
LAST-MODIFIED:20251017T132840Z
UID:12555-1763838000-1763854200@www.louvignedebais.fr
SUMMARY:Repas du SLFC
DESCRIPTION:
URL:https://www.louvignedebais.fr/agenda/repas-du-slfc-3/
LOCATION:Salle Intermède\, rue des Diligences\, Louvigné-de-Bais
ATTACH;FMTTYPE=image/jpeg:https://www.louvignedebais.fr/wp-content/uploads/2025/10/11.22-AFFICHE-SLFC-REPAS-DU-FOOT-4_page-0001.jpg
END:VEVENT
BEGIN:VEVENT
DTSTART;TZID=Europe/Paris:20251121T140000
DTEND;TZID=Europe/Paris:20251121T170000
DTSTAMP:20260421T201152
CREATED:20251017T133833Z
LAST-MODIFIED:20251017T133833Z
UID:12558-1763733600-1763744400@www.louvignedebais.fr
SUMMARY:Danse en ligne
DESCRIPTION:Rassemblement de danse en ligne
URL:https://www.louvignedebais.fr/agenda/danse-en-ligne/
LOCATION:Salle Intermède\, rue des Diligences\, Louvigné-de-Bais
END:VEVENT
BEGIN:VEVENT
DTSTART;TZID=Europe/Paris:20251118T190000
DTEND;TZID=Europe/Paris:20251118T210000
DTSTAMP:20260421T201152
CREATED:20250725T142348Z
LAST-MODIFIED:20251113T135218Z
UID:11714-1763492400-1763499600@www.louvignedebais.fr
SUMMARY:Conseil municipal
DESCRIPTION:Convocation et ordre du jour de la séance du 18 novembre 2025
URL:https://www.louvignedebais.fr/agenda/conseil-municipal-35/
LOCATION:Salle Intermède\, rue des Diligences\, Louvigné-de-Bais
END:VEVENT
BEGIN:VEVENT
DTSTART;TZID=Europe/Paris:20251111T104500
DTEND;TZID=Europe/Paris:20251111T113000
DTSTAMP:20260421T201152
CREATED:20251017T134234Z
LAST-MODIFIED:20251017T134234Z
UID:12560-1762857900-1762860600@www.louvignedebais.fr
SUMMARY:Commémoration
DESCRIPTION:
URL:https://www.louvignedebais.fr/agenda/commemoration/
LOCATION:Place de la mairie
END:VEVENT
BEGIN:VEVENT
DTSTART;TZID=Europe/Paris:20251026T150000
DTEND;TZID=Europe/Paris:20251026T170000
DTSTAMP:20260421T201152
CREATED:20250915T125425Z
LAST-MODIFIED:20250915T125425Z
UID:12298-1761490800-1761498000@www.louvignedebais.fr
SUMMARY:Théâtre
DESCRIPTION:La troupe de théâtre « Ouvrez les guillemets » vous présente la pièce « Le coupable est dans la salle ».
URL:https://www.louvignedebais.fr/agenda/theatre-11/
LOCATION:Salle Intermède\, rue des Diligences\, Louvigné-de-Bais
ATTACH;FMTTYPE=image/jpeg:https://www.louvignedebais.fr/wp-content/uploads/2025/09/10.24-au-26-Affiches-le-coupable-est-dans-la-salle_page-0001.jpg
END:VEVENT
BEGIN:VEVENT
DTSTART;TZID=Europe/Paris:20251025T203000
DTEND;TZID=Europe/Paris:20251025T223000
DTSTAMP:20260421T201152
CREATED:20250915T125942Z
LAST-MODIFIED:20250915T130203Z
UID:12301-1761424200-1761431400@www.louvignedebais.fr
SUMMARY:Théâtre
DESCRIPTION:La troupe de théâtre « Ouvrez les guillemets » vous présente la pièce « Le coupable est dans la salle ».
URL:https://www.louvignedebais.fr/agenda/theatre-12/
LOCATION:Salle Intermède\, rue des Diligences\, Louvigné-de-Bais
ATTACH;FMTTYPE=image/jpeg:https://www.louvignedebais.fr/wp-content/uploads/2025/09/10.24-au-26-Affiches-le-coupable-est-dans-la-salle_page-0001.jpg
END:VEVENT
BEGIN:VEVENT
DTSTART;TZID=Europe/Paris:20251024T203000
DTEND;TZID=Europe/Paris:20251024T223000
DTSTAMP:20260421T201152
CREATED:20250915T124900Z
LAST-MODIFIED:20250915T124900Z
UID:12293-1761337800-1761345000@www.louvignedebais.fr
SUMMARY:Théâtre
DESCRIPTION:La troupe de théâtre « Ouvrez les guillemets » vous présente la pièce « Le coupable est dans la salle ».
URL:https://www.louvignedebais.fr/agenda/theatre-10/
LOCATION:Salle Intermède\, rue des Diligences\, Louvigné-de-Bais
ATTACH;FMTTYPE=image/jpeg:https://www.louvignedebais.fr/wp-content/uploads/2025/09/10.24-au-26-Affiches-le-coupable-est-dans-la-salle_page-0001.jpg
END:VEVENT
END:VCALENDAR