BEGIN:VCALENDAR
VERSION:2.0
PRODID:-//Louvigné-de-Bais - ECPv6.15.20//NONSGML v1.0//EN
CALSCALE:GREGORIAN
METHOD:PUBLISH
X-WR-CALNAME:Louvigné-de-Bais
X-ORIGINAL-URL:https://www.louvignedebais.fr
X-WR-CALDESC:Évènements pour Louvigné-de-Bais
REFRESH-INTERVAL;VALUE=DURATION:PT1H
X-Robots-Tag:noindex
X-PUBLISHED-TTL:PT1H
BEGIN:VTIMEZONE
TZID:Europe/Paris
BEGIN:DAYLIGHT
TZOFFSETFROM:+0100
TZOFFSETTO:+0200
TZNAME:CEST
DTSTART:20230326T010000
END:DAYLIGHT
BEGIN:STANDARD
TZOFFSETFROM:+0200
TZOFFSETTO:+0100
TZNAME:CET
DTSTART:20231029T010000
END:STANDARD
BEGIN:DAYLIGHT
TZOFFSETFROM:+0100
TZOFFSETTO:+0200
TZNAME:CEST
DTSTART:20240331T010000
END:DAYLIGHT
BEGIN:STANDARD
TZOFFSETFROM:+0200
TZOFFSETTO:+0100
TZNAME:CET
DTSTART:20241027T010000
END:STANDARD
BEGIN:DAYLIGHT
TZOFFSETFROM:+0100
TZOFFSETTO:+0200
TZNAME:CEST
DTSTART:20250330T010000
END:DAYLIGHT
BEGIN:STANDARD
TZOFFSETFROM:+0200
TZOFFSETTO:+0100
TZNAME:CET
DTSTART:20251026T010000
END:STANDARD
END:VTIMEZONE
BEGIN:VEVENT
DTSTART;TZID=Europe/Paris:20240421T143000
DTEND;TZID=Europe/Paris:20240421T170000
DTSTAMP:20260423T001413
CREATED:20240227T093710Z
LAST-MODIFIED:20240227T093909Z
UID:9437-1713709800-1713718800@www.louvignedebais.fr
SUMMARY:Théâtre
DESCRIPTION:Le club amitités et loisirs vous propose une pièce de théâtre : \n« Et Dieu créa les fans »\, une pièce de Jacky Goupil \nInterprétée par la troupe « Noriol » de Loiron \nOuverture dès 14h00 \nTarifs : Adultes : 8 euros \nEnfants jusqu’à 10 ans : 5 euros \nRéservations par téléphone : \n02 99 49 05 30 – 06 88 95 03 47 \n02 99 49 01 05 – 06 19 09 59 52
URL:https://www.louvignedebais.fr/agenda/theatre/
LOCATION:Salle Intermède\, rue des Diligences\, Louvigné-de-Bais
ATTACH;FMTTYPE=image/png:https://www.louvignedebais.fr/wp-content/uploads/2024/02/04.21-Theatre.png
END:VEVENT
END:VCALENDAR