BEGIN:VCALENDAR
VERSION:2.0
PRODID:-//Louvigné-de-Bais - ECPv6.15.20//NONSGML v1.0//EN
CALSCALE:GREGORIAN
METHOD:PUBLISH
X-ORIGINAL-URL:https://www.louvignedebais.fr
X-WR-CALDESC:Évènements pour Louvigné-de-Bais
REFRESH-INTERVAL;VALUE=DURATION:PT1H
X-Robots-Tag:noindex
X-PUBLISHED-TTL:PT1H
BEGIN:VTIMEZONE
TZID:Europe/Paris
BEGIN:DAYLIGHT
TZOFFSETFROM:+0100
TZOFFSETTO:+0200
TZNAME:CEST
DTSTART:20230326T010000
END:DAYLIGHT
BEGIN:STANDARD
TZOFFSETFROM:+0200
TZOFFSETTO:+0100
TZNAME:CET
DTSTART:20231029T010000
END:STANDARD
BEGIN:DAYLIGHT
TZOFFSETFROM:+0100
TZOFFSETTO:+0200
TZNAME:CEST
DTSTART:20240331T010000
END:DAYLIGHT
BEGIN:STANDARD
TZOFFSETFROM:+0200
TZOFFSETTO:+0100
TZNAME:CET
DTSTART:20241027T010000
END:STANDARD
BEGIN:DAYLIGHT
TZOFFSETFROM:+0100
TZOFFSETTO:+0200
TZNAME:CEST
DTSTART:20250330T010000
END:DAYLIGHT
BEGIN:STANDARD
TZOFFSETFROM:+0200
TZOFFSETTO:+0100
TZNAME:CET
DTSTART:20251026T010000
END:STANDARD
END:VTIMEZONE
BEGIN:VEVENT
DTSTART;TZID=Europe/Paris:20240406T190000
DTEND;TZID=Europe/Paris:20240406T190000
DTSTAMP:20260423T002248
CREATED:20240311T131754Z
LAST-MODIFIED:20240311T131754Z
UID:9476-1712430000-1712430000@www.louvignedebais.fr
SUMMARY:Soirée du volley
DESCRIPTION:Soirée du volley \nle samedi 6 avril à 19h \nà la salle Intermède \nRepas sur place : \n18€ / adulte\, 10€ par enfant \nRepas à emporter : 12€ \nInscription jusqu’au 23 mars inclus : \nhttps://www.helloasso.com/associations/louvigne-de-bais-volley-ball/evenements/repas-volley-club-louvigne-de-bais-volley-ball-6-avril
URL:https://www.louvignedebais.fr/agenda/soiree-du-volley/
LOCATION:Salle Intermède\, rue des Diligences\, Louvigné-de-Bais
ATTACH;FMTTYPE=image/png:https://www.louvignedebais.fr/wp-content/uploads/2024/03/Soiree-Volley.png
END:VEVENT
END:VCALENDAR