BEGIN:VCALENDAR
VERSION:2.0
PRODID:-//Louvigné-de-Bais - ECPv6.15.20//NONSGML v1.0//EN
CALSCALE:GREGORIAN
METHOD:PUBLISH
X-WR-CALNAME:Louvigné-de-Bais
X-ORIGINAL-URL:https://www.louvignedebais.fr
X-WR-CALDESC:Évènements pour Louvigné-de-Bais
REFRESH-INTERVAL;VALUE=DURATION:PT1H
X-Robots-Tag:noindex
X-PUBLISHED-TTL:PT1H
BEGIN:VTIMEZONE
TZID:Europe/Paris
BEGIN:DAYLIGHT
TZOFFSETFROM:+0100
TZOFFSETTO:+0200
TZNAME:CEST
DTSTART:20230326T010000
END:DAYLIGHT
BEGIN:STANDARD
TZOFFSETFROM:+0200
TZOFFSETTO:+0100
TZNAME:CET
DTSTART:20231029T010000
END:STANDARD
BEGIN:DAYLIGHT
TZOFFSETFROM:+0100
TZOFFSETTO:+0200
TZNAME:CEST
DTSTART:20240331T010000
END:DAYLIGHT
BEGIN:STANDARD
TZOFFSETFROM:+0200
TZOFFSETTO:+0100
TZNAME:CET
DTSTART:20241027T010000
END:STANDARD
BEGIN:DAYLIGHT
TZOFFSETFROM:+0100
TZOFFSETTO:+0200
TZNAME:CEST
DTSTART:20250330T010000
END:DAYLIGHT
BEGIN:STANDARD
TZOFFSETFROM:+0200
TZOFFSETTO:+0100
TZNAME:CET
DTSTART:20251026T010000
END:STANDARD
END:VTIMEZONE
BEGIN:VEVENT
DTSTART;TZID=Europe/Paris:20240226T140000
DTEND;TZID=Europe/Paris:20240226T170000
DTSTAMP:20260423T033334
CREATED:20240126T093145Z
LAST-MODIFIED:20240126T093145Z
UID:9349-1708956000-1708966800@www.louvignedebais.fr
SUMMARY:Stage de modelage
DESCRIPTION:L’atelier d’Arts Plastiques  \norganise un stage de modelage  \nAu prix de 35 € (matériaux fournis) \nÀ partir de 6 ans \nRenseignements au 06 66 87 68 38 \nInscriptions jusqu’au 12 février via Hello Asso
URL:https://www.louvignedebais.fr/agenda/stage-de-modelage/
LOCATION:Atelier d’Arts Plastiques\, 35 rue Madame de Sévigné\, 35680 LOUVIGNÉ-DE-BAIS
ATTACH;FMTTYPE=image/jpeg:https://www.louvignedebais.fr/wp-content/uploads/2024/01/02.26-Stage-modelage-Arts-Plastiques.jpg
END:VEVENT
END:VCALENDAR