BEGIN:VCALENDAR
VERSION:2.0
PRODID:-//Louvigné-de-Bais - ECPv6.15.20//NONSGML v1.0//EN
CALSCALE:GREGORIAN
METHOD:PUBLISH
X-ORIGINAL-URL:https://www.louvignedebais.fr
X-WR-CALDESC:Évènements pour Louvigné-de-Bais
REFRESH-INTERVAL;VALUE=DURATION:PT1H
X-Robots-Tag:noindex
X-PUBLISHED-TTL:PT1H
BEGIN:VTIMEZONE
TZID:Europe/Paris
BEGIN:DAYLIGHT
TZOFFSETFROM:+0100
TZOFFSETTO:+0200
TZNAME:CEST
DTSTART:20230326T010000
END:DAYLIGHT
BEGIN:STANDARD
TZOFFSETFROM:+0200
TZOFFSETTO:+0100
TZNAME:CET
DTSTART:20231029T010000
END:STANDARD
BEGIN:DAYLIGHT
TZOFFSETFROM:+0100
TZOFFSETTO:+0200
TZNAME:CEST
DTSTART:20240331T010000
END:DAYLIGHT
BEGIN:STANDARD
TZOFFSETFROM:+0200
TZOFFSETTO:+0100
TZNAME:CET
DTSTART:20241027T010000
END:STANDARD
BEGIN:DAYLIGHT
TZOFFSETFROM:+0100
TZOFFSETTO:+0200
TZNAME:CEST
DTSTART:20250330T010000
END:DAYLIGHT
BEGIN:STANDARD
TZOFFSETFROM:+0200
TZOFFSETTO:+0100
TZNAME:CET
DTSTART:20251026T010000
END:STANDARD
END:VTIMEZONE
BEGIN:VEVENT
DTSTART;TZID=Europe/Paris:20240121T113000
DTEND;TZID=Europe/Paris:20240121T130000
DTSTAMP:20260423T050155
CREATED:20231212T144414Z
LAST-MODIFIED:20231212T160322Z
UID:9158-1705836600-1705842000@www.louvignedebais.fr
SUMMARY:Vœux de la paroisse
DESCRIPTION:
URL:https://www.louvignedebais.fr/agenda/voeux-de-la-paroisse/
LOCATION:Salle Beau Soleil\, Louvigné-de-Bais
END:VEVENT
BEGIN:VEVENT
DTSTART;TZID=Europe/Paris:20240121T143000
DTEND;TZID=Europe/Paris:20240121T173000
DTSTAMP:20260423T050155
CREATED:20240108T134015Z
LAST-MODIFIED:20240122T085232Z
UID:9233-1705847400-1705858200@www.louvignedebais.fr
SUMMARY:Théâtre
DESCRIPTION:L’Atelier d’Arts Plastiques organise une représentation de Théâtre \npar la troupe Les Illuminés de Boistrudan « Klaxon\, Trompettes… Et pétarades » \n\n\n\nRéservations au 06.66.87.68.38 \nBillets également en vente au bar la Rozell et à la Boulangerie \nAdultes : 8€ \n18 ans : 5€ \n12 ans : 2€
URL:https://www.louvignedebais.fr/agenda/theatre-2/
LOCATION:Salle Intermède\, rue des Diligences\, Louvigné-de-Bais
END:VEVENT
END:VCALENDAR