BEGIN:VCALENDAR
VERSION:2.0
PRODID:-//Louvigné-de-Bais - ECPv6.15.20//NONSGML v1.0//EN
CALSCALE:GREGORIAN
METHOD:PUBLISH
X-WR-CALNAME:Louvigné-de-Bais
X-ORIGINAL-URL:https://www.louvignedebais.fr
X-WR-CALDESC:Évènements pour Louvigné-de-Bais
REFRESH-INTERVAL;VALUE=DURATION:PT1H
X-Robots-Tag:noindex
X-PUBLISHED-TTL:PT1H
BEGIN:VTIMEZONE
TZID:Europe/Paris
BEGIN:DAYLIGHT
TZOFFSETFROM:+0100
TZOFFSETTO:+0200
TZNAME:CEST
DTSTART:20220327T010000
END:DAYLIGHT
BEGIN:STANDARD
TZOFFSETFROM:+0200
TZOFFSETTO:+0100
TZNAME:CET
DTSTART:20221030T010000
END:STANDARD
BEGIN:DAYLIGHT
TZOFFSETFROM:+0100
TZOFFSETTO:+0200
TZNAME:CEST
DTSTART:20230326T010000
END:DAYLIGHT
BEGIN:STANDARD
TZOFFSETFROM:+0200
TZOFFSETTO:+0100
TZNAME:CET
DTSTART:20231029T010000
END:STANDARD
BEGIN:DAYLIGHT
TZOFFSETFROM:+0100
TZOFFSETTO:+0200
TZNAME:CEST
DTSTART:20240331T010000
END:DAYLIGHT
BEGIN:STANDARD
TZOFFSETFROM:+0200
TZOFFSETTO:+0100
TZNAME:CET
DTSTART:20241027T010000
END:STANDARD
END:VTIMEZONE
BEGIN:VEVENT
DTSTART;TZID=Europe/Paris:20231112T103000
DTEND;TZID=Europe/Paris:20231112T123000
DTSTAMP:20260423T074322
CREATED:20171016T195645Z
LAST-MODIFIED:20231112T081638Z
UID:4437-1699785000-1699792200@www.louvignedebais.fr
SUMMARY:Commémoration de l’armistice du 11 novembre
DESCRIPTION:Commémoration de l’armistice\n\n10 h 30 : Commémoration au monument aux morts de Louvigné\n\nDépôt de gerbes \, messages de Mr le Maire et du Président\nSuivi d’un Vin d’honneur offert par la municipalité de Louvigné\, à la salle du Club.\n\n\n11 h 45 : Cérémonie au monument aux morts de Chancé\n\n 
URL:https://www.louvignedebais.fr/agenda/commemoration-de-larmistice-du-11-novembre/
LOCATION:Monument aux morts\, place de la Mairie\, LOUVIGNE DE BAIS
ATTACH;FMTTYPE=image/png:https://www.louvignedebais.fr/wp-content/uploads/2016/02/Drapeau.png
END:VEVENT
BEGIN:VEVENT
DTSTART;TZID=Europe/Paris:20231112T143000
DTEND;TZID=Europe/Paris:20231112T170000
DTSTAMP:20260423T074322
CREATED:20231004T123736Z
LAST-MODIFIED:20231004T123736Z
UID:9023-1699799400-1699808400@www.louvignedebais.fr
SUMMARY:Sister Act - Comédie musicale
DESCRIPTION:www.cieartscene.fr \n 
URL:https://www.louvignedebais.fr/agenda/sister-act-comedie-musicale-2/
LOCATION:Salle Intermède\, rue des Diligences\, Louvigné-de-Bais
END:VEVENT
END:VCALENDAR