BEGIN:VCALENDAR
VERSION:2.0
PRODID:-//Louvigné-de-Bais - ECPv6.15.20//NONSGML v1.0//EN
CALSCALE:GREGORIAN
METHOD:PUBLISH
X-ORIGINAL-URL:https://www.louvignedebais.fr
X-WR-CALDESC:Évènements pour Louvigné-de-Bais
REFRESH-INTERVAL;VALUE=DURATION:PT1H
X-Robots-Tag:noindex
X-PUBLISHED-TTL:PT1H
BEGIN:VTIMEZONE
TZID:Europe/Paris
BEGIN:DAYLIGHT
TZOFFSETFROM:+0100
TZOFFSETTO:+0200
TZNAME:CEST
DTSTART:20220327T010000
END:DAYLIGHT
BEGIN:STANDARD
TZOFFSETFROM:+0200
TZOFFSETTO:+0100
TZNAME:CET
DTSTART:20221030T010000
END:STANDARD
BEGIN:DAYLIGHT
TZOFFSETFROM:+0100
TZOFFSETTO:+0200
TZNAME:CEST
DTSTART:20230326T010000
END:DAYLIGHT
BEGIN:STANDARD
TZOFFSETFROM:+0200
TZOFFSETTO:+0100
TZNAME:CET
DTSTART:20231029T010000
END:STANDARD
BEGIN:DAYLIGHT
TZOFFSETFROM:+0100
TZOFFSETTO:+0200
TZNAME:CEST
DTSTART:20240331T010000
END:DAYLIGHT
BEGIN:STANDARD
TZOFFSETFROM:+0200
TZOFFSETTO:+0100
TZNAME:CET
DTSTART:20241027T010000
END:STANDARD
END:VTIMEZONE
BEGIN:VEVENT
DTSTART;VALUE=DATE:20230701
DTEND;VALUE=DATE:20230702
DTSTAMP:20260423T130358
CREATED:20230523T063527Z
LAST-MODIFIED:20230523T063953Z
UID:8828-1688169600-1688255999@www.louvignedebais.fr
SUMMARY:Croq'Histoires
DESCRIPTION:Animation gratuite – Inscription Obligatoire \n\n 
URL:https://www.louvignedebais.fr/agenda/croqhistoires/
LOCATION:Bibliothèque
END:VEVENT
BEGIN:VEVENT
DTSTART;TZID=Europe/Paris:20230701T203000
DTEND;TZID=Europe/Paris:20230701T203000
DTSTAMP:20260423T130358
CREATED:20221123T151445Z
LAST-MODIFIED:20230331T080208Z
UID:8407-1688243400-1688243400@www.louvignedebais.fr
SUMMARY:spectacle de danse
DESCRIPTION:Spectacle sur le thème de la comédie musicale \nrenseignements : la.danse.louvigneenne@gmail.com \nBillet : \n\nPré-vente : 5 €\nsur place : 7 €\n\nGratuit pour les – 18 ans \n 
URL:https://www.louvignedebais.fr/agenda/spectacle-de-danse/
LOCATION:Salle Intermède\, rue des Diligences\, Louvigné-de-Bais
END:VEVENT
END:VCALENDAR