BEGIN:VCALENDAR
VERSION:2.0
PRODID:-//Louvigné-de-Bais - ECPv6.15.20//NONSGML v1.0//EN
CALSCALE:GREGORIAN
METHOD:PUBLISH
X-ORIGINAL-URL:https://www.louvignedebais.fr
X-WR-CALDESC:Évènements pour Louvigné-de-Bais
REFRESH-INTERVAL;VALUE=DURATION:PT1H
X-Robots-Tag:noindex
X-PUBLISHED-TTL:PT1H
BEGIN:VTIMEZONE
TZID:Europe/Paris
BEGIN:DAYLIGHT
TZOFFSETFROM:+0100
TZOFFSETTO:+0200
TZNAME:CEST
DTSTART:20220327T010000
END:DAYLIGHT
BEGIN:STANDARD
TZOFFSETFROM:+0200
TZOFFSETTO:+0100
TZNAME:CET
DTSTART:20221030T010000
END:STANDARD
BEGIN:DAYLIGHT
TZOFFSETFROM:+0100
TZOFFSETTO:+0200
TZNAME:CEST
DTSTART:20230326T010000
END:DAYLIGHT
BEGIN:STANDARD
TZOFFSETFROM:+0200
TZOFFSETTO:+0100
TZNAME:CET
DTSTART:20231029T010000
END:STANDARD
BEGIN:DAYLIGHT
TZOFFSETFROM:+0100
TZOFFSETTO:+0200
TZNAME:CEST
DTSTART:20240331T010000
END:DAYLIGHT
BEGIN:STANDARD
TZOFFSETFROM:+0200
TZOFFSETTO:+0100
TZNAME:CET
DTSTART:20241027T010000
END:STANDARD
END:VTIMEZONE
BEGIN:VEVENT
DTSTART;VALUE=DATE:20230304
DTEND;VALUE=DATE:20230305
DTSTAMP:20260423T183332
CREATED:20221123T153718Z
LAST-MODIFIED:20230202T134222Z
UID:8423-1677888000-1677974399@www.louvignedebais.fr
SUMMARY:Repas du Volley
DESCRIPTION:pour vous inscrire : cliquez ici \nou \nen remplissant le formulaire sur le site du Club
URL:https://www.louvignedebais.fr/agenda/repas-du-volley/
LOCATION:Salle Intermède\, rue des Diligences\, Louvigné-de-Bais
ATTACH;FMTTYPE=image/png:https://www.louvignedebais.fr/wp-content/uploads/2022/11/Repas-du-club-4-mars-.png
END:VEVENT
BEGIN:VEVENT
DTSTART;VALUE=DATE:20230304
DTEND;VALUE=DATE:20230305
DTSTAMP:20260423T183332
CREATED:20230202T135145Z
LAST-MODIFIED:20230202T135145Z
UID:8585-1677888000-1677974399@www.louvignedebais.fr
SUMMARY:Lâcher de truites
DESCRIPTION:Samedi 4 mars 2023\nétang de la Touche \nà partir de 9h\nrestauration et buvette sur place \nles cartes de pêche seront en vente sur site le jour du lâcher\, ou dès à présent au bar « la Rozell » ou à la boucherie « chez Jimmy » \nPrix des cartes\n\nadulte à l’année : 30 €\nenfant à l’année : 15 €\nà la journée : 8 €
URL:https://www.louvignedebais.fr/agenda/lacher-de-truites-2/
LOCATION:Etang de la Touche\, 35680
ATTACH;FMTTYPE=image/jpeg:https://www.louvignedebais.fr/wp-content/uploads/2022/02/16763922576214eab80becc3.09826870-1645537976.jpg
END:VEVENT
END:VCALENDAR