BEGIN:VCALENDAR
VERSION:2.0
PRODID:-//Louvigné-de-Bais - ECPv6.15.20//NONSGML v1.0//EN
CALSCALE:GREGORIAN
METHOD:PUBLISH
X-WR-CALNAME:Louvigné-de-Bais
X-ORIGINAL-URL:https://www.louvignedebais.fr
X-WR-CALDESC:Évènements pour Louvigné-de-Bais
REFRESH-INTERVAL;VALUE=DURATION:PT1H
X-Robots-Tag:noindex
X-PUBLISHED-TTL:PT1H
BEGIN:VTIMEZONE
TZID:Europe/Paris
BEGIN:DAYLIGHT
TZOFFSETFROM:+0100
TZOFFSETTO:+0200
TZNAME:CEST
DTSTART:20210328T010000
END:DAYLIGHT
BEGIN:STANDARD
TZOFFSETFROM:+0200
TZOFFSETTO:+0100
TZNAME:CET
DTSTART:20211031T010000
END:STANDARD
BEGIN:DAYLIGHT
TZOFFSETFROM:+0100
TZOFFSETTO:+0200
TZNAME:CEST
DTSTART:20220327T010000
END:DAYLIGHT
BEGIN:STANDARD
TZOFFSETFROM:+0200
TZOFFSETTO:+0100
TZNAME:CET
DTSTART:20221030T010000
END:STANDARD
BEGIN:DAYLIGHT
TZOFFSETFROM:+0100
TZOFFSETTO:+0200
TZNAME:CEST
DTSTART:20230326T010000
END:DAYLIGHT
BEGIN:STANDARD
TZOFFSETFROM:+0200
TZOFFSETTO:+0100
TZNAME:CET
DTSTART:20231029T010000
END:STANDARD
END:VTIMEZONE
BEGIN:VEVENT
DTSTART;VALUE=DATE:20220611
DTEND;VALUE=DATE:20220613
DTSTAMP:20260424T073745
CREATED:20220516T133413Z
LAST-MODIFIED:20220516T133452Z
UID:6790-1654905600-1655078399@www.louvignedebais.fr
SUMMARY:50 ans du SLFC
DESCRIPTION:
URL:https://www.louvignedebais.fr/agenda/50-ans-du-slfc-2/
LOCATION:Salle et terrain de sports\, rue Anne de Bretagne\, LOUVIGNE DE BAIS
ATTACH;FMTTYPE=image/png:https://www.louvignedebais.fr/wp-content/uploads/2016/01/Logo_SLFC-1-e1453756278832.png
END:VEVENT
BEGIN:VEVENT
DTSTART;TZID=Europe/Paris:20220612T080000
DTEND;TZID=Europe/Paris:20220612T170000
DTSTAMP:20260424T073745
CREATED:20220516T133623Z
LAST-MODIFIED:20220516T133623Z
UID:6791-1655020800-1655053200@www.louvignedebais.fr
SUMMARY:élections législatives
DESCRIPTION:
URL:https://www.louvignedebais.fr/agenda/elections-legislatives/
LOCATION:Salle Intermède\, rue des Diligences\, Louvigné-de-Bais
END:VEVENT
END:VCALENDAR