BEGIN:VCALENDAR
VERSION:2.0
PRODID:-//Louvigné-de-Bais - ECPv6.15.20//NONSGML v1.0//EN
CALSCALE:GREGORIAN
METHOD:PUBLISH
X-WR-CALNAME:Louvigné-de-Bais
X-ORIGINAL-URL:https://www.louvignedebais.fr
X-WR-CALDESC:Évènements pour Louvigné-de-Bais
REFRESH-INTERVAL;VALUE=DURATION:PT1H
X-Robots-Tag:noindex
X-PUBLISHED-TTL:PT1H
BEGIN:VTIMEZONE
TZID:Europe/Paris
BEGIN:DAYLIGHT
TZOFFSETFROM:+0100
TZOFFSETTO:+0200
TZNAME:CEST
DTSTART:20210328T010000
END:DAYLIGHT
BEGIN:STANDARD
TZOFFSETFROM:+0200
TZOFFSETTO:+0100
TZNAME:CET
DTSTART:20211031T010000
END:STANDARD
BEGIN:DAYLIGHT
TZOFFSETFROM:+0100
TZOFFSETTO:+0200
TZNAME:CEST
DTSTART:20220327T010000
END:DAYLIGHT
BEGIN:STANDARD
TZOFFSETFROM:+0200
TZOFFSETTO:+0100
TZNAME:CET
DTSTART:20221030T010000
END:STANDARD
BEGIN:DAYLIGHT
TZOFFSETFROM:+0100
TZOFFSETTO:+0200
TZNAME:CEST
DTSTART:20230326T010000
END:DAYLIGHT
BEGIN:STANDARD
TZOFFSETFROM:+0200
TZOFFSETTO:+0100
TZNAME:CET
DTSTART:20231029T010000
END:STANDARD
END:VTIMEZONE
BEGIN:VEVENT
DTSTART;VALUE=DATE:20220305
DTEND;VALUE=DATE:20220306
DTSTAMP:20260424T115507
CREATED:20220223T081138Z
LAST-MODIFIED:20220223T081818Z
UID:6700-1646438400-1646524799@www.louvignedebais.fr
SUMMARY:Lâcher de truites
DESCRIPTION:Pêche Louvignéenne \n\n\nOuverture de la Pêche avec un Lâcher de truites \nSamedi 5 mars 2022 à l étang de La touche \nà partir de 9h00 \n  \nprix des cartes : \n* adulte 30 € \n* enfant 15 € \ncarte à la journée : 8 € \nles cartes sont en vente \nau bar PMU « la Rozell »\, à la Boucherie « chez Jimmy » ainsi que  le jour de l’ouverture sur le plan d’eau
URL:https://www.louvignedebais.fr/agenda/lacher-de-truites/
ATTACH;FMTTYPE=image/jpeg:https://www.louvignedebais.fr/wp-content/uploads/2022/02/16763922576214eab80becc3.09826870-1645537976.jpg
END:VEVENT
END:VCALENDAR