BEGIN:VCALENDAR
VERSION:2.0
PRODID:-//Louvigné-de-Bais - ECPv6.15.20//NONSGML v1.0//EN
CALSCALE:GREGORIAN
METHOD:PUBLISH
X-ORIGINAL-URL:https://www.louvignedebais.fr
X-WR-CALDESC:Évènements pour Louvigné-de-Bais
REFRESH-INTERVAL;VALUE=DURATION:PT1H
X-Robots-Tag:noindex
X-PUBLISHED-TTL:PT1H
BEGIN:VTIMEZONE
TZID:Europe/Paris
BEGIN:DAYLIGHT
TZOFFSETFROM:+0100
TZOFFSETTO:+0200
TZNAME:CEST
DTSTART:20200329T010000
END:DAYLIGHT
BEGIN:STANDARD
TZOFFSETFROM:+0200
TZOFFSETTO:+0100
TZNAME:CET
DTSTART:20201025T010000
END:STANDARD
BEGIN:DAYLIGHT
TZOFFSETFROM:+0100
TZOFFSETTO:+0200
TZNAME:CEST
DTSTART:20210328T010000
END:DAYLIGHT
BEGIN:STANDARD
TZOFFSETFROM:+0200
TZOFFSETTO:+0100
TZNAME:CET
DTSTART:20211031T010000
END:STANDARD
BEGIN:DAYLIGHT
TZOFFSETFROM:+0100
TZOFFSETTO:+0200
TZNAME:CEST
DTSTART:20220327T010000
END:DAYLIGHT
BEGIN:STANDARD
TZOFFSETFROM:+0200
TZOFFSETTO:+0100
TZNAME:CET
DTSTART:20221030T010000
END:STANDARD
END:VTIMEZONE
BEGIN:VEVENT
DTSTART;TZID=Europe/Paris:20211214T190000
DTEND;TZID=Europe/Paris:20211214T210000
DTSTAMP:20260424T165223
CREATED:20211214T145347Z
LAST-MODIFIED:20211214T145347Z
UID:6578-1639508400-1639515600@www.louvignedebais.fr
SUMMARY:Conseil Municipal
DESCRIPTION:Ordre du jour\n\nRésiliation de l’adhésion au COS Breizh\nAvenant assurance statutaire\nLongueur de la voirie Communale\nExonération du loyer commercial de la boucherie\nChoix de la maitrise d’ouvrage pour les travaux de la Chapelle Saint Job\nAvenant n°3 de la convention pour la création du service commun « informatique »\nCaution pour les associations\nQuestions diverses\n\nConseil à huis clos (contexte sanitaire).
URL:https://www.louvignedebais.fr/agenda/conseil-municipal-3/
LOCATION:Salle Intermède\, rue des Diligences\, Louvigné-de-Bais
END:VEVENT
END:VCALENDAR